BEGIN:VCALENDAR
VERSION:2.0
PRODID:-//tea-an-records.de - ECPv6.15.20//NONSGML v1.0//EN
CALSCALE:GREGORIAN
METHOD:PUBLISH
X-ORIGINAL-URL:https://www.tea-and-records.de
X-WR-CALDESC:Veranstaltungen für tea-an-records.de
REFRESH-INTERVAL;VALUE=DURATION:PT1H
X-Robots-Tag:noindex
X-PUBLISHED-TTL:PT1H
BEGIN:VTIMEZONE
TZID:Europe/Berlin
BEGIN:DAYLIGHT
TZOFFSETFROM:+0100
TZOFFSETTO:+0200
TZNAME:CEST
DTSTART:20230326T010000
END:DAYLIGHT
BEGIN:STANDARD
TZOFFSETFROM:+0200
TZOFFSETTO:+0100
TZNAME:CET
DTSTART:20231029T010000
END:STANDARD
BEGIN:DAYLIGHT
TZOFFSETFROM:+0100
TZOFFSETTO:+0200
TZNAME:CEST
DTSTART:20240331T010000
END:DAYLIGHT
BEGIN:STANDARD
TZOFFSETFROM:+0200
TZOFFSETTO:+0100
TZNAME:CET
DTSTART:20241027T010000
END:STANDARD
BEGIN:DAYLIGHT
TZOFFSETFROM:+0100
TZOFFSETTO:+0200
TZNAME:CEST
DTSTART:20250330T010000
END:DAYLIGHT
BEGIN:STANDARD
TZOFFSETFROM:+0200
TZOFFSETTO:+0100
TZNAME:CET
DTSTART:20251026T010000
END:STANDARD
END:VTIMEZONE
BEGIN:VEVENT
DTSTART;TZID=Europe/Berlin:20240323T200000
DTEND;TZID=Europe/Berlin:20240323T233000
DTSTAMP:20260426T042322
CREATED:20231214T203314Z
LAST-MODIFIED:20240317T093236Z
UID:35045-1711224000-1711236600@www.tea-and-records.de
SUMMARY:Postcards - Konzert (SOLD OUT!)
DESCRIPTION:Vor einiger Zeit durften wir die Postcards live bei einem unserer Lieblingsfestivals (OBS Special in Beverungen) erleben und freuen uns nun ganz besonders\, dass wir es geschafft haben\, die tolle Band aus dem Libanon ins Samowar Cottage zu locken und sogar mit einigen neuen Songs im Gepäck. Ihr dürft gespannt sein auf die Veröffentlichung eines neuen Albums. \nPostcards kommen aus Beirut und irgendwie auch vom Indie Rock Campus eines US-College\, zumindest was die Beherrschung des Genres angeht. Auf ihrem 2021 erschienen mittlerweile dritten Album „After the Fire\, Before the End“ bearbeiten sie\, was in den Monaten zuvor im Libanon alles passiert ist (Proteste\, verheerende Explosion im Beiruter Hafen\, staatliches Komplettversagen\, Elektrizitäts -\, Wirtschaftskrise). Dabei trifft melodischer Feinklang auf den genretypischen Gitarrensound und einen Gesang\, der im Ausdruck seinesgleichen sucht. Julia Sabra verfügt über einen Vortrag\, der Verlorenheit und Sehnsucht fast beiläufig ins Mikro haucht. Sabras nachdenkliche Stimme\, dass atmosphärisch dichte Spiel ihrer Bandkollegen und ein von zarten\, zugleich eingängigen Harmonien geprägtes Songwriting machen die Postcards mit zum Besten\, was das Genre zu bieten hat. Solider Shoegazer-Dream-Pop\, der satte Indie- Gitarren mit ätherischem Gesang und verträumten Melodien kombiniert. Existentialistisch schön. \n\nSOLITICKET SAMOWAR: Da Kultur ja bekanntlicherweise leider nicht sehr viel einbringt\, gibt es ab sofort das SAMOWAR SOLITICKET mit dem Ihr\, sofern Ihr es Euch leisten mögt und könnt\, die Möglichkeit habt uns zu zusätzlich zu unterstützen. Der Großteil der Einnahmen geht bei unseren Konzerten an die Bands und das möchten wir auch weiter so handhaben\, damit sie wiederkommen und sich wohl bei uns fühlen. Da die Miete jedoch trotzdem bezahlt werden muss\,  freuen wir uns über Eure Hilfe\, damit wir weiterhin so schöne gemeinsame Konzertmomente im Samowar Cottage erleben können. DANKE an alle von Euch! \n  \n \n \n  \n  \n  \n  \n  \n  \n  \n  \n  \n  \n  \n 
URL:https://www.tea-and-records.de/event/postcards/
LOCATION:Samowar Tea&Records\, Am Sande 33\, Lüneburg\, Niedersachsen\, 21335\, Deutschland
ATTACH;FMTTYPE=image/jpeg:https://www.tea-and-records.de/woo/wp-content/uploads/2023/12/Postcards-2023-©-Camille-Cabbabe-scaled.jpg
ORGANIZER;CN="Samowar Tea & Records":MAILTO:info@tea-and-records.de
END:VEVENT
END:VCALENDAR