BEGIN:VCALENDAR
VERSION:2.0
PRODID:-//tea-an-records.de - ECPv6.15.20//NONSGML v1.0//EN
CALSCALE:GREGORIAN
METHOD:PUBLISH
X-ORIGINAL-URL:https://www.tea-and-records.de
X-WR-CALDESC:Veranstaltungen für tea-an-records.de
REFRESH-INTERVAL;VALUE=DURATION:PT1H
X-Robots-Tag:noindex
X-PUBLISHED-TTL:PT1H
BEGIN:VTIMEZONE
TZID:Europe/Berlin
BEGIN:DAYLIGHT
TZOFFSETFROM:+0100
TZOFFSETTO:+0200
TZNAME:CEST
DTSTART:20230326T010000
END:DAYLIGHT
BEGIN:STANDARD
TZOFFSETFROM:+0200
TZOFFSETTO:+0100
TZNAME:CET
DTSTART:20231029T010000
END:STANDARD
BEGIN:DAYLIGHT
TZOFFSETFROM:+0100
TZOFFSETTO:+0200
TZNAME:CEST
DTSTART:20240331T010000
END:DAYLIGHT
BEGIN:STANDARD
TZOFFSETFROM:+0200
TZOFFSETTO:+0100
TZNAME:CET
DTSTART:20241027T010000
END:STANDARD
BEGIN:DAYLIGHT
TZOFFSETFROM:+0100
TZOFFSETTO:+0200
TZNAME:CEST
DTSTART:20250330T010000
END:DAYLIGHT
BEGIN:STANDARD
TZOFFSETFROM:+0200
TZOFFSETTO:+0100
TZNAME:CET
DTSTART:20251026T010000
END:STANDARD
END:VTIMEZONE
BEGIN:VEVENT
DTSTART;TZID=Europe/Berlin:20241116T100000
DTEND;TZID=Europe/Berlin:20241117T170000
DTSTAMP:20260424T012914
CREATED:20240618T193710Z
LAST-MODIFIED:20240716T173057Z
UID:36310-1731751200-1731862800@www.tea-and-records.de
SUMMARY:Der Rote Faden - Workshop Kreatives Schreiben mit Paula Coulin
DESCRIPTION:Wochenendworkshop am Samstag\, 16. November 10-18 Uhr und Sonntag\, 17. November 10-17 Uhr. Biographiearbeit mit Paula Coulin \nOb jung oder alt\, wir besitzen alle einen Schatz aus Erfahrungen\, den wir erst dann heben\, wenn wir die Truhe der Erinnerung öffnen. Gemeinsam erkunden und erforschen wir unsere ganz persönliche Vergangenheit. Jeder findet sein Thema\, ob in Einzelarbeit oder im Austausch mit unserer Kleingruppe (max. 8 Teilnehmer). Wir schreiben kreativ\, erzählen und berichten\, gestalten und erstellen ein Genogramm – die Landkarte unserer Herkunft. Freut Euch auf eine Entdeckungsreise\, die Euch den wahren Reichtum Eures Lebens zeigt. Fragen? Gerne melden bei kontakt@paulacoulin.com \nPreis: 150 EUR \n  \n 
URL:https://www.tea-and-records.de/event/der-rote-faden-workshop-kreatives-schreiben-mit-paula-coulin-2/
LOCATION:Samowar Tea&Records\, Am Sande 33\, Lüneburg\, Niedersachsen\, 21335\, Deutschland
ATTACH;FMTTYPE=image/jpeg:https://www.tea-and-records.de/woo/wp-content/uploads/2024/06/der-rote-faden-scaled.jpg
ORGANIZER;CN="Paula Coulin":MAILTO:kontakt@paulacoulin.com
END:VEVENT
END:VCALENDAR