BEGIN:VCALENDAR
VERSION:2.0
PRODID:-//tea-an-records.de - ECPv6.15.20//NONSGML v1.0//EN
CALSCALE:GREGORIAN
METHOD:PUBLISH
X-ORIGINAL-URL:https://www.tea-and-records.de
X-WR-CALDESC:Veranstaltungen für tea-an-records.de
REFRESH-INTERVAL;VALUE=DURATION:PT1H
X-Robots-Tag:noindex
X-PUBLISHED-TTL:PT1H
BEGIN:VTIMEZONE
TZID:Europe/Berlin
BEGIN:DAYLIGHT
TZOFFSETFROM:+0100
TZOFFSETTO:+0200
TZNAME:CEST
DTSTART:20230326T010000
END:DAYLIGHT
BEGIN:STANDARD
TZOFFSETFROM:+0200
TZOFFSETTO:+0100
TZNAME:CET
DTSTART:20231029T010000
END:STANDARD
BEGIN:DAYLIGHT
TZOFFSETFROM:+0100
TZOFFSETTO:+0200
TZNAME:CEST
DTSTART:20240331T010000
END:DAYLIGHT
BEGIN:STANDARD
TZOFFSETFROM:+0200
TZOFFSETTO:+0100
TZNAME:CET
DTSTART:20241027T010000
END:STANDARD
BEGIN:DAYLIGHT
TZOFFSETFROM:+0100
TZOFFSETTO:+0200
TZNAME:CEST
DTSTART:20250330T010000
END:DAYLIGHT
BEGIN:STANDARD
TZOFFSETFROM:+0200
TZOFFSETTO:+0100
TZNAME:CET
DTSTART:20251026T010000
END:STANDARD
END:VTIMEZONE
BEGIN:VEVENT
DTSTART;TZID=Europe/Berlin:20241207T190000
DTEND;TZID=Europe/Berlin:20241207T230000
DTSTAMP:20260423T122118
CREATED:20240802T090247Z
LAST-MODIFIED:20240802T090342Z
UID:36605-1733598000-1733612400@www.tea-and-records.de
SUMMARY:Winter Rotweine & Käse
DESCRIPTION:DuDu trinkst gern Wein\, hast Lust auf Neues und wolltest Dein Wissen über Wein schon immer mal aufbessern und bist zudem auch noch Portugal Fan\, so wie wir? Dann bist Du bei diesem Weintasting genau richtig. Robin stellt Dir Weine vor\, die zur dunklen Jahreszeit passen. Genau das richtige für ein schönes schweres Glas Rotwein auf dem Sofa bei Kerzenlicht. Dazu haben wir ein paar passende Käsesorten von unserem Naturgroßhändler ausgewählt. Wir freuen uns auf einen gemütlichen Abend mit Euch im Cottage. \nWir freuen uns auf einen Weinabend mit Euch\, Euren Freunden und vielen netten Menschen!
URL:https://www.tea-and-records.de/event/winter-rotweine-kaese/
LOCATION:Samowar Tea&Records\, Am Sande 33\, Lüneburg\, Niedersachsen\, 21335\, Deutschland
ATTACH;FMTTYPE=image/png:https://www.tea-and-records.de/woo/wp-content/uploads/2023/02/Beitragsbild_Weintasting.png
ORGANIZER;CN="Samowar Tea & Records":MAILTO:info@tea-and-records.de
END:VEVENT
END:VCALENDAR