BEGIN:VCALENDAR
VERSION:2.0
PRODID:-//tea-an-records.de - ECPv6.15.20//NONSGML v1.0//EN
CALSCALE:GREGORIAN
METHOD:PUBLISH
X-WR-CALNAME:tea-an-records.de
X-ORIGINAL-URL:https://www.tea-and-records.de
X-WR-CALDESC:Veranstaltungen für tea-an-records.de
REFRESH-INTERVAL;VALUE=DURATION:PT1H
X-Robots-Tag:noindex
X-PUBLISHED-TTL:PT1H
BEGIN:VTIMEZONE
TZID:Europe/Berlin
BEGIN:DAYLIGHT
TZOFFSETFROM:+0100
TZOFFSETTO:+0200
TZNAME:CEST
DTSTART:20230326T010000
END:DAYLIGHT
BEGIN:STANDARD
TZOFFSETFROM:+0200
TZOFFSETTO:+0100
TZNAME:CET
DTSTART:20231029T010000
END:STANDARD
BEGIN:DAYLIGHT
TZOFFSETFROM:+0100
TZOFFSETTO:+0200
TZNAME:CEST
DTSTART:20240331T010000
END:DAYLIGHT
BEGIN:STANDARD
TZOFFSETFROM:+0200
TZOFFSETTO:+0100
TZNAME:CET
DTSTART:20241027T010000
END:STANDARD
BEGIN:DAYLIGHT
TZOFFSETFROM:+0100
TZOFFSETTO:+0200
TZNAME:CEST
DTSTART:20250330T010000
END:DAYLIGHT
BEGIN:STANDARD
TZOFFSETFROM:+0200
TZOFFSETTO:+0100
TZNAME:CET
DTSTART:20251026T010000
END:STANDARD
END:VTIMEZONE
BEGIN:VEVENT
DTSTART;TZID=Europe/Berlin:20241220T164500
DTEND;TZID=Europe/Berlin:20241220T180000
DTSTAMP:20260423T121850
CREATED:20241208T003901Z
LAST-MODIFIED:20241208T003901Z
UID:37304-1734713100-1734717600@www.tea-and-records.de
SUMMARY:Hanna Rexheuser -  Cello - Performancekünstlerin  (Konzert)
DESCRIPTION:Hanna Rexheuser\, Cello-Performancekünstlerin\nKlassik\, Pop & Schauspiel\n20.12.2024 um 17.00 Uhr\nEinlass: ab 16.45 Uhr \nDauer: ca. 50 Minuten\nEintritt frei\, gerne freiwilliger Beitrag\n \nWie kommt es zu diesem spontanen Konzert so kurz vor Weihnachten?\nVor kurzem hatte ich Corona\, und währenddessen hat mich eine Flut an neuen Musik – und Performance – Ideen überrollt. Sofort habe ich angefangen\, das alles umzusetzen und möchte es gerne unbedingt noch in diesem Jahr ein erstes Mal teilen 🙂\nInspiriert haben mich: der Roman Anna Karenina\, Venedigs Kanäle\, eine keltische Sage\, Amerika nach der Präsidentschaftswahl … und die vielen Kinder\, für die ich in diesem Herbst gespielt habe. \n \nHinweis: auf www.hanna-rexheuser.de erfahrt ihr mehr über mich; es kann aber sein\, dass die Seite (wegen eines technischen Problems\, das gerade gelöst wird) zeitweise nicht anklickbar ist.\nDeshalb hier noch ein Satz: für mich kann Irish Folk mühelos neben Billie Eilish\, Clara Schumann oder einer Schauspieleinlage stehen – der rote Faden liegt auf emotionaler Ebene und in meiner Moderation!\n \n\n \n \n \n \n \n \n \n  \n  \n  \n \n \n \n \n  \n  \n  \n  \n  \n  \n  \n  \n  \n  \n  \n  \n  \n  \n  \n 
URL:https://www.tea-and-records.de/event/hanna-rexheuser-cello-performancekuenstlerin-konzert/
LOCATION:Samowar Tea&Records\, Am Sande 33\, Lüneburg\, Niedersachsen\, 21335\, Deutschland
ATTACH;FMTTYPE=image/jpeg:https://www.tea-and-records.de/woo/wp-content/uploads/2024/12/HannaRexheuser-20255-268a2.jpg
ORGANIZER;CN="Samowar Tea & Records":MAILTO:info@tea-and-records.de
END:VEVENT
END:VCALENDAR