BEGIN:VCALENDAR
VERSION:2.0
PRODID:-//tea-an-records.de - ECPv6.15.20//NONSGML v1.0//EN
CALSCALE:GREGORIAN
METHOD:PUBLISH
X-ORIGINAL-URL:https://www.tea-and-records.de
X-WR-CALDESC:Veranstaltungen für tea-an-records.de
REFRESH-INTERVAL;VALUE=DURATION:PT1H
X-Robots-Tag:noindex
X-PUBLISHED-TTL:PT1H
BEGIN:VTIMEZONE
TZID:Europe/Berlin
BEGIN:DAYLIGHT
TZOFFSETFROM:+0100
TZOFFSETTO:+0200
TZNAME:CEST
DTSTART:20240331T010000
END:DAYLIGHT
BEGIN:STANDARD
TZOFFSETFROM:+0200
TZOFFSETTO:+0100
TZNAME:CET
DTSTART:20241027T010000
END:STANDARD
BEGIN:DAYLIGHT
TZOFFSETFROM:+0100
TZOFFSETTO:+0200
TZNAME:CEST
DTSTART:20250330T010000
END:DAYLIGHT
BEGIN:STANDARD
TZOFFSETFROM:+0200
TZOFFSETTO:+0100
TZNAME:CET
DTSTART:20251026T010000
END:STANDARD
BEGIN:DAYLIGHT
TZOFFSETFROM:+0100
TZOFFSETTO:+0200
TZNAME:CEST
DTSTART:20260329T010000
END:DAYLIGHT
BEGIN:STANDARD
TZOFFSETFROM:+0200
TZOFFSETTO:+0100
TZNAME:CET
DTSTART:20261025T010000
END:STANDARD
END:VTIMEZONE
BEGIN:VEVENT
DTSTART;TZID=Europe/Berlin:20250628T143000
DTEND;TZID=Europe/Berlin:20250628T163000
DTSTAMP:20260420T232617
CREATED:20250518T085726Z
LAST-MODIFIED:20250518T091800Z
UID:38406-1751121000-1751128200@www.tea-and-records.de
SUMMARY:British Tea Time - High Tea Party
DESCRIPTION:Ihr wolltet immer schon mal eine echte englische Tea Time genießen mit hübsch bestückter Etagère und köstlichem Tee? Das könnt Ihr fast passend zur High Tea Zeit am Sonntag nachmittag stilecht in unserem Cottage. Sabine kredenzt für Euch verschiedene Sandwiches\, Kuchen im Kleinformat und natürlich Scones\, gebacken ganz wie im königlichen Hause mit Buttermilch. Getrunken wird aus Sammeltassen mit Goldrand und die eine oder andere Anekdote über die englische Teezeremonie wird ebenfalls erzählt. \nLet’s tea party! \nIm Preis enthalten sind 6 verschiedene Sorten Tee\, Kuchen\, Sandwiches und Scones. \nNEUHEIT für diesen TERMIN (aufgrund des trockenen Sommers) \nINDOOR und OUTDOOR Tickets: Ihr könnt Euch vorab entscheiden\, ob Ihr drinnen oder draußen sitzen möchtet. Im Innenraum habt Ihr ein sicheres Plätzchen im Trockenen. \nMöchtest Du lieber in unserem Teegarten sitzen? Erstmalig gibt es die Möglichkeit\, ein Outdoor Ticket zu buchen. Sollte es unerwartet an dem Tag regnen\, erhaltet Ihr ein überdachtes Plätzchen im Garten (bitte dann entsprechend warm anziehen). Sollten „indoor“ noch Kapazitäten verfügbar sein\, dürft Ihr natürlich nach drinnen umziehen\,  habt allerdings keinen Anspruch auf einen Platz im Cottage. Natürlich werden wir es Euch so gemütlich wie möglich draußen machen\, very british 😉
URL:https://www.tea-and-records.de/event/british-tea-time-high-tea-party-6/
LOCATION:Samowar Tea&Records\, Am Sande 33\, Lüneburg\, Niedersachsen\, 21335\, Deutschland
ATTACH;FMTTYPE=image/png:https://www.tea-and-records.de/woo/wp-content/uploads/2023/07/British-Tea-Time.png
ORGANIZER;CN="Samowar Tea & Records":MAILTO:info@tea-and-records.de
END:VEVENT
END:VCALENDAR