BEGIN:VCALENDAR
VERSION:2.0
PRODID:-//tea-an-records.de - ECPv6.15.20//NONSGML v1.0//EN
CALSCALE:GREGORIAN
METHOD:PUBLISH
X-ORIGINAL-URL:https://www.tea-and-records.de
X-WR-CALDESC:Veranstaltungen für tea-an-records.de
REFRESH-INTERVAL;VALUE=DURATION:PT1H
X-Robots-Tag:noindex
X-PUBLISHED-TTL:PT1H
BEGIN:VTIMEZONE
TZID:Europe/Berlin
BEGIN:DAYLIGHT
TZOFFSETFROM:+0100
TZOFFSETTO:+0200
TZNAME:CEST
DTSTART:20240331T010000
END:DAYLIGHT
BEGIN:STANDARD
TZOFFSETFROM:+0200
TZOFFSETTO:+0100
TZNAME:CET
DTSTART:20241027T010000
END:STANDARD
BEGIN:DAYLIGHT
TZOFFSETFROM:+0100
TZOFFSETTO:+0200
TZNAME:CEST
DTSTART:20250330T010000
END:DAYLIGHT
BEGIN:STANDARD
TZOFFSETFROM:+0200
TZOFFSETTO:+0100
TZNAME:CET
DTSTART:20251026T010000
END:STANDARD
BEGIN:DAYLIGHT
TZOFFSETFROM:+0100
TZOFFSETTO:+0200
TZNAME:CEST
DTSTART:20260329T010000
END:DAYLIGHT
BEGIN:STANDARD
TZOFFSETFROM:+0200
TZOFFSETTO:+0100
TZNAME:CET
DTSTART:20261025T010000
END:STANDARD
END:VTIMEZONE
BEGIN:VEVENT
DTSTART;TZID=Europe/Berlin:20250630T193000
DTEND;TZID=Europe/Berlin:20250630T213000
DTSTAMP:20260420T203223
CREATED:20250417T081430Z
LAST-MODIFIED:20250417T093041Z
UID:38240-1751311800-1751319000@www.tea-and-records.de
SUMMARY:Frau Rohde erzählt  wieder Montags - Geschichten
DESCRIPTION: Geschichten mit Christine Rohde und Musik von Joel Silberkuhl \nDie Geschichtenerzählerin Christine Rohde und der Musiker Joel Silberkuhl teilen ihre Leidenschaft für kluge Geschichten und zauberhafte Klänge. Gemeinsam laden sie Euch zu einem Erlebnis-Abend ein – voller Genuss und Inspiration. \nEuch erwartet wieder \n– Berührende Geschichten mit Herz und Schmerz\, einer Prise Weisheit und Augenzwinkern. \n– Magische Klänge: Einfühlsame Musikkreationen auf Handpan und Gitarre.\n– Das gemeinsame Erleben: Präsenz im Erzählen\, Musizieren und Lauschen – von Herz zu Herz. \nMöge das Gehörte die Sinne erfreuen\, das Herz berühren und die Seele nähren. \nZur Website von FRAU ROHDE\nZur Website von JOEL\nReservierungen per Email möglich unter christine@fraurohde-erzaehlt.de oder kommt einfach spontan. \nEINLASS: 19 UHR \nHutspende \nVeranstalterin: Christine Rohde \n  \n 
URL:https://www.tea-and-records.de/event/frau-rohde-erzaehlt-wieder-montags-geschichten/
LOCATION:Samowar Tea&Records\, Am Sande 33\, Lüneburg\, Niedersachsen\, 21335\, Deutschland
ATTACH;FMTTYPE=image/jpeg:https://www.tea-and-records.de/woo/wp-content/uploads/2025/02/2025-02-Fotomontage-Frau-Rohde-erzaehlt-v2.jpg
ORGANIZER;CN="Samowar Tea & Records":MAILTO:info@tea-and-records.de
END:VEVENT
END:VCALENDAR