BEGIN:VCALENDAR
VERSION:2.0
PRODID:-//tea-an-records.de - ECPv6.15.20//NONSGML v1.0//EN
CALSCALE:GREGORIAN
METHOD:PUBLISH
X-ORIGINAL-URL:https://www.tea-and-records.de
X-WR-CALDESC:Veranstaltungen für tea-an-records.de
REFRESH-INTERVAL;VALUE=DURATION:PT1H
X-Robots-Tag:noindex
X-PUBLISHED-TTL:PT1H
BEGIN:VTIMEZONE
TZID:Europe/Berlin
BEGIN:DAYLIGHT
TZOFFSETFROM:+0100
TZOFFSETTO:+0200
TZNAME:CEST
DTSTART:20240331T010000
END:DAYLIGHT
BEGIN:STANDARD
TZOFFSETFROM:+0200
TZOFFSETTO:+0100
TZNAME:CET
DTSTART:20241027T010000
END:STANDARD
BEGIN:DAYLIGHT
TZOFFSETFROM:+0100
TZOFFSETTO:+0200
TZNAME:CEST
DTSTART:20250330T010000
END:DAYLIGHT
BEGIN:STANDARD
TZOFFSETFROM:+0200
TZOFFSETTO:+0100
TZNAME:CET
DTSTART:20251026T010000
END:STANDARD
BEGIN:DAYLIGHT
TZOFFSETFROM:+0100
TZOFFSETTO:+0200
TZNAME:CEST
DTSTART:20260329T010000
END:DAYLIGHT
BEGIN:STANDARD
TZOFFSETFROM:+0200
TZOFFSETTO:+0100
TZNAME:CET
DTSTART:20261025T010000
END:STANDARD
END:VTIMEZONE
BEGIN:VEVENT
DTSTART;TZID=Europe/Berlin:20250921T130000
DTEND;TZID=Europe/Berlin:20250921T180000
DTSTAMP:20260420T174018
CREATED:20250822T093758Z
LAST-MODIFIED:20251204T132609Z
UID:39090-1758459600-1758477600@www.tea-and-records.de
SUMMARY:Samowar wird 15 Jahre - Wir feiern mit Euch -
DESCRIPTION:Liebe Samowar Community\, \nunglaublich\, aber wahr: Unser Teeladen wird in diesem September 15 Jahre alt! \nIn dieser Zeit haben wir viele schöne Momente erlebt\, aber auch herausfordernde Phasen durchgestanden – von kleinen Alltagskrisen bis hin zu den besonderen Zeiten rund um Corona. Es gab Höhen und Tiefen\, aber eines ist immer geblieben: die Freude am Tee und die wunderbaren Begegnungen mit Euch. Ohne Eure Treue\, Eure Neugier und Eure Lust am gemeinsamen Teegenuss wären wir heute nicht hier. Dafür sagen wir von Herzen: Danke! \nUnd weil man so etwas nicht still und leise feiert\, laden wir Dich herzlich zu unserem Jubiläum am Sonntag\, 21. September von 13-18 Uhr zu uns ein. Im Rahmen des verkaufsoffenen Sonntags öffnen wir von 13 bis 18 Uhr unseren Laden und unseren kleinen Teegarten. Dort erwarten Dich eine ostfriesische Teezeremonie\, viele leckere Kostproben\, ein paar Angebote und viele nette Menschen. \nKomm‘ vorbei\, stoß mit uns an und feiere mit uns 15 Jahre voller Tee\, Begegnungen und gemeinsamer Momente. \nWir freuen uns riesig auf Dich! \n 
URL:https://www.tea-and-records.de/event/15-jahre-samowar/
LOCATION:Samowar Tea&Records\, Am Sande 33\, Lüneburg\, Niedersachsen\, 21335\, Deutschland
ATTACH;FMTTYPE=image/jpeg:https://www.tea-and-records.de/woo/wp-content/uploads/2025/08/jubilaeum-schmal.jpg
ORGANIZER;CN="Paula Coulin":MAILTO:kontakt@paulacoulin.com
END:VEVENT
END:VCALENDAR