BEGIN:VCALENDAR
VERSION:2.0
PRODID:-//tea-an-records.de - ECPv6.15.20//NONSGML v1.0//EN
CALSCALE:GREGORIAN
METHOD:PUBLISH
X-ORIGINAL-URL:https://www.tea-and-records.de
X-WR-CALDESC:Veranstaltungen für tea-an-records.de
REFRESH-INTERVAL;VALUE=DURATION:PT1H
X-Robots-Tag:noindex
X-PUBLISHED-TTL:PT1H
BEGIN:VTIMEZONE
TZID:Europe/Berlin
BEGIN:DAYLIGHT
TZOFFSETFROM:+0100
TZOFFSETTO:+0200
TZNAME:CEST
DTSTART:20240331T010000
END:DAYLIGHT
BEGIN:STANDARD
TZOFFSETFROM:+0200
TZOFFSETTO:+0100
TZNAME:CET
DTSTART:20241027T010000
END:STANDARD
BEGIN:DAYLIGHT
TZOFFSETFROM:+0100
TZOFFSETTO:+0200
TZNAME:CEST
DTSTART:20250330T010000
END:DAYLIGHT
BEGIN:STANDARD
TZOFFSETFROM:+0200
TZOFFSETTO:+0100
TZNAME:CET
DTSTART:20251026T010000
END:STANDARD
BEGIN:DAYLIGHT
TZOFFSETFROM:+0100
TZOFFSETTO:+0200
TZNAME:CEST
DTSTART:20260329T010000
END:DAYLIGHT
BEGIN:STANDARD
TZOFFSETFROM:+0200
TZOFFSETTO:+0100
TZNAME:CET
DTSTART:20261025T010000
END:STANDARD
END:VTIMEZONE
BEGIN:VEVENT
DTSTART;TZID=Europe/Berlin:20251010T200000
DTEND;TZID=Europe/Berlin:20251010T233000
DTSTAMP:20260420T173858
CREATED:20250916T113847Z
LAST-MODIFIED:20250916T121307Z
UID:39169-1760126400-1760139000@www.tea-and-records.de
SUMMARY:Samowar präsentiert: AHNUNG & GESCHMACK KONZERTE: FR. 10.10. Ÿdeg (B) + Jabbering Dupes (HH) (Café Klatsch)
DESCRIPTION:10.10. Ÿdeg (B) + Jabbering Dupes (HH)\n\nŸdeg kommen aus den failed democracies des Ostens (Ungarn\, Sachsen)\, haben sich in der Allee der Kosmonauten in Berlin getroffen und spielen in dieser Formation seit Herbst 2023 Post-Punk / Post-Hardcore mit schnell wechselnden Liedern\, Parts\, Rhythmen\, Geschwindigkeiten und Sprachen. In der kurzen Zeit haben sie über 40 Shows in fast allen Ländern Mitteleuropas gespielt und habn es sogar bis auf den Balkan geschafft. Im Frühling 2025 erschien bei It’s Eleven Records ihre erste EP „elme“ mit sieben Liedern. Die 7″ wurde unter anderem bei Ox\, Bierschinken\, Manierenversagen und Away from Life positiv besprochen.\nzur Bandseite Ydeg\nzur Instagramseite Ydeg\n \nJabbering Dupes sind eine dreiköpfige Band aus Hamburg Sie bieten ein verdrehtes Durcheinander von byzantinischen lyrischen Ausflügen\, gesungen\, gesprochen und gekläfft über einem wechselnden Getöse von noisigem Indie-Rock\, heavy Shoegaze und verschiedenen Geschmacksrichtugen des Post-Punk. Ein kantige\, wortlastige Schöpfung mit Bekenntnissen zum Werk von The Fall\, Blue Aeroplanes and Dry Cleaning.\nzur Bandcamp Seite Jabbering Dupes\nzur Instagram Seite Jabbering Dupes\n\n\nDoors 20:00\nBeginn 20:30\nAK: Studis usw. 6\,- / Regulär 12\,- / Supporter „sky is the limit“\nVVK: Regulär 10\,-\n \nVeranstaltungsort: Café Klatsch\, Am Springintgut 21 21335 Lüneburg\n\nVeranstalter: Ahnung & Geschmack
URL:https://www.tea-and-records.de/event/ydeg-jabbering-dupes/
LOCATION:Samowar Tea&Records\, Am Sande 33\, Lüneburg\, Niedersachsen\, 21335\, Deutschland
ATTACH;FMTTYPE=image/jpeg:https://www.tea-and-records.de/woo/wp-content/uploads/2025/09/ydeg-und-jabbering-dupes.jpg
ORGANIZER;CN="Samowar Tea & Records":MAILTO:info@tea-and-records.de
END:VEVENT
END:VCALENDAR