BEGIN:VCALENDAR
VERSION:2.0
PRODID:-//tea-an-records.de - ECPv6.15.20//NONSGML v1.0//EN
CALSCALE:GREGORIAN
METHOD:PUBLISH
X-ORIGINAL-URL:https://www.tea-and-records.de
X-WR-CALDESC:Veranstaltungen für tea-an-records.de
REFRESH-INTERVAL;VALUE=DURATION:PT1H
X-Robots-Tag:noindex
X-PUBLISHED-TTL:PT1H
BEGIN:VTIMEZONE
TZID:Europe/Berlin
BEGIN:DAYLIGHT
TZOFFSETFROM:+0100
TZOFFSETTO:+0200
TZNAME:CEST
DTSTART:20240331T010000
END:DAYLIGHT
BEGIN:STANDARD
TZOFFSETFROM:+0200
TZOFFSETTO:+0100
TZNAME:CET
DTSTART:20241027T010000
END:STANDARD
BEGIN:DAYLIGHT
TZOFFSETFROM:+0100
TZOFFSETTO:+0200
TZNAME:CEST
DTSTART:20250330T010000
END:DAYLIGHT
BEGIN:STANDARD
TZOFFSETFROM:+0200
TZOFFSETTO:+0100
TZNAME:CET
DTSTART:20251026T010000
END:STANDARD
BEGIN:DAYLIGHT
TZOFFSETFROM:+0100
TZOFFSETTO:+0200
TZNAME:CEST
DTSTART:20260329T010000
END:DAYLIGHT
BEGIN:STANDARD
TZOFFSETFROM:+0200
TZOFFSETTO:+0100
TZNAME:CET
DTSTART:20261025T010000
END:STANDARD
END:VTIMEZONE
BEGIN:VEVENT
DTSTART;TZID=Europe/Berlin:20251025T143000
DTEND;TZID=Europe/Berlin:20251025T163000
DTSTAMP:20260420T171332
CREATED:20250822T102401Z
LAST-MODIFIED:20250822T102401Z
UID:39096-1761402600-1761409800@www.tea-and-records.de
SUMMARY:British Tea Time - High Tea Party
DESCRIPTION:Ihr wolltet immer schon mal eine echte englische Tea Time genießen mit hübsch bestückter Etagère und köstlichem Tee? Das könnt Ihr fast passend zur High Tea Zeit am Samstag nachmittag stilecht in unserem Cottage. Sabine kredenzt für Euch verschiedene Sandwiches\, Kuchen im Kleinformat und natürlich Scones\, gebacken ganz wie im königlichen Hause mit Buttermilch. Getrunken wird aus Sammeltassen mit Goldrand und die eine oder andere Anekdote über die englische Teezeremonie wird ebenfalls erzählt. \nLet’s tea party! \nIm Preis enthalten sind 6 verschiedene Sorten Tee\, Kuchen\, Sandwiches und Scones. \n 
URL:https://www.tea-and-records.de/event/british-tea-time-high-tea-party-7/
LOCATION:Samowar Tea&Records\, Am Sande 33\, Lüneburg\, Niedersachsen\, 21335\, Deutschland
ATTACH;FMTTYPE=image/png:https://www.tea-and-records.de/woo/wp-content/uploads/2023/07/British-Tea-Time.png
ORGANIZER;CN="Samowar Tea & Records":MAILTO:info@tea-and-records.de
END:VEVENT
END:VCALENDAR