BEGIN:VCALENDAR
VERSION:2.0
PRODID:-//tea-an-records.de - ECPv6.15.20//NONSGML v1.0//EN
CALSCALE:GREGORIAN
METHOD:PUBLISH
X-ORIGINAL-URL:https://www.tea-and-records.de
X-WR-CALDESC:Veranstaltungen für tea-an-records.de
REFRESH-INTERVAL;VALUE=DURATION:PT1H
X-Robots-Tag:noindex
X-PUBLISHED-TTL:PT1H
BEGIN:VTIMEZONE
TZID:Europe/Berlin
BEGIN:DAYLIGHT
TZOFFSETFROM:+0100
TZOFFSETTO:+0200
TZNAME:CEST
DTSTART:20240331T010000
END:DAYLIGHT
BEGIN:STANDARD
TZOFFSETFROM:+0200
TZOFFSETTO:+0100
TZNAME:CET
DTSTART:20241027T010000
END:STANDARD
BEGIN:DAYLIGHT
TZOFFSETFROM:+0100
TZOFFSETTO:+0200
TZNAME:CEST
DTSTART:20250330T010000
END:DAYLIGHT
BEGIN:STANDARD
TZOFFSETFROM:+0200
TZOFFSETTO:+0100
TZNAME:CET
DTSTART:20251026T010000
END:STANDARD
BEGIN:DAYLIGHT
TZOFFSETFROM:+0100
TZOFFSETTO:+0200
TZNAME:CEST
DTSTART:20260329T010000
END:DAYLIGHT
BEGIN:STANDARD
TZOFFSETFROM:+0200
TZOFFSETTO:+0100
TZNAME:CET
DTSTART:20261025T010000
END:STANDARD
END:VTIMEZONE
BEGIN:VEVENT
DTSTART;TZID=Europe/Berlin:20251030T190000
DTEND;TZID=Europe/Berlin:20251030T213000
DTSTAMP:20260420T144006
CREATED:20250822T081037Z
LAST-MODIFIED:20250822T081037Z
UID:39056-1761850800-1761859800@www.tea-and-records.de
SUMMARY:TROTZDEM - Geschichten vom Hinfallen und Weitergehen
DESCRIPTION:TROTZDEM – Geschichten vom Hinfallen und Weitergehen. \nEin Gesprächsabend \nDrei ausgewählte Interviewpartnerinnen erzählen ihre Geschichte und wie sie letztlich daran gewachsen sind. Ich heiße Brigitte Hawelka\, bin Kulturanthropologin\, Clownpädagogin und Prozessbegleitung für Inklusion und führe die Interviewpartnerinnen und Zuhörer durch den Abend. \nMein Interesse ist es\, dafür zu sensibilisieren\, Misserfolge auch als Erfahrung und Chance zu sehen\, und nicht wie so oft als persönliche Niederlage zu bewerten. Gerade Frauen haben Probleme ihren Perfektionismus zu überwinden\, auch deshalb ist dieser Abend: für Frauen und weiblich gelesene Flinta* \nDu fühlst Dich angesprochen\, als Interviewpartnerin Deine Geschichte zu erzählen? Dann lade ich Dich ein\, mit mir in Kontakt zu treten: brigittehawelka@gmx.de \nHutspende (zwischen 5-10 EUR) \n\nAm 30.10. öffne ich den Abend wieder für ALLE Geschlechter/geschlechtlichen Identitäten\n\nVeranstalterin: Brigitte Hawelka \n 
URL:https://www.tea-and-records.de/event/trotzdem-geschichten-vom-hinfallen-und-weitergehen-3/
LOCATION:Samowar Tea&Records\, Am Sande 33\, Lüneburg\, Niedersachsen\, 21335\, Deutschland
ATTACH;FMTTYPE=image/jpeg:https://www.tea-and-records.de/woo/wp-content/uploads/2024/01/brigitte-2.jpeg
ORGANIZER;CN="Samowar Tea & Records":MAILTO:info@tea-and-records.de
END:VEVENT
END:VCALENDAR