BEGIN:VCALENDAR
VERSION:2.0
PRODID:-//tea-an-records.de - ECPv6.15.20//NONSGML v1.0//EN
CALSCALE:GREGORIAN
METHOD:PUBLISH
X-WR-CALNAME:tea-an-records.de
X-ORIGINAL-URL:https://www.tea-and-records.de
X-WR-CALDESC:Veranstaltungen für tea-an-records.de
REFRESH-INTERVAL;VALUE=DURATION:PT1H
X-Robots-Tag:noindex
X-PUBLISHED-TTL:PT1H
BEGIN:VTIMEZONE
TZID:Europe/Berlin
BEGIN:DAYLIGHT
TZOFFSETFROM:+0100
TZOFFSETTO:+0200
TZNAME:CEST
DTSTART:20240331T010000
END:DAYLIGHT
BEGIN:STANDARD
TZOFFSETFROM:+0200
TZOFFSETTO:+0100
TZNAME:CET
DTSTART:20241027T010000
END:STANDARD
BEGIN:DAYLIGHT
TZOFFSETFROM:+0100
TZOFFSETTO:+0200
TZNAME:CEST
DTSTART:20250330T010000
END:DAYLIGHT
BEGIN:STANDARD
TZOFFSETFROM:+0200
TZOFFSETTO:+0100
TZNAME:CET
DTSTART:20251026T010000
END:STANDARD
BEGIN:DAYLIGHT
TZOFFSETFROM:+0100
TZOFFSETTO:+0200
TZNAME:CEST
DTSTART:20260329T010000
END:DAYLIGHT
BEGIN:STANDARD
TZOFFSETFROM:+0200
TZOFFSETTO:+0100
TZNAME:CET
DTSTART:20261025T010000
END:STANDARD
END:VTIMEZONE
BEGIN:VEVENT
DTSTART;TZID=Europe/Berlin:20251122T200000
DTEND;TZID=Europe/Berlin:20251122T233000
DTSTAMP:20260420T145249
CREATED:20250916T120537Z
LAST-MODIFIED:20250916T120537Z
UID:39174-1763841600-1763854200@www.tea-and-records.de
SUMMARY:Samowar präsentiert: AHNUNG & GESCHMACK KONZERTE: Sa. 22.11. TERRA FLOP (HB) + BoN (H)(Café Klatsch)
DESCRIPTION:22.11. TERRA FLOP (HB) + BoN (H)\n\nDas Bremer Trio Terra Flop gilt schon jetzt als Speerspitze des Flop-Rocks. In Anlehnung an den Zeitgeist der späten Siebziger – Anfang Achtziger Jahre neigt der gehörgestörte Zuhörer dazu\, Vergleiche mit Bands wie WIRE oder GANG OF FOUR zu ziehen. An anderer Stelle haben wir bezüglich so was den Begriff „Erwachsenenpunk“ verwendet. Man hört noch eine gehörige Prise FUGAZI heraus.\nzur Bandseite\nzur Bandcamp Seite\nzur Instagram Seite\n \nBoN sind mit Bass – Guitar – Drums – Trio ebenfals zu dritt. Inspiriert von Ende Achtziger Indie Rock\, sowie von Punk- und Surftunes aus allen Dekaden\, bleibt es beim Guten Zeug. Instrumental und manchem gängigen Indieverständnis angenehm abgewandt.\np.s.: Nein nein. Nix Bon Scott.\nzur Bandcamp Seite\n\n  \n\nDoors 20:00\nBeginn 20:30\nAK: Studis usw. 6\,- / Regulär 12\,- / Supporter „sky is the limit“\nVVK: Regulär 10\,-\n \nVeranstaltungsort: Café Klatsch\, Am Springintgut 21 21335 Lüneburg\n\nVeranstalter: Ahnung & Geschmack
URL:https://www.tea-and-records.de/event/samowar-praesentiert-ahnung-geschmack-konzerte-bonterra-flop-cafe-klatsch/
LOCATION:Samowar Tea&Records\, Am Sande 33\, Lüneburg\, Niedersachsen\, 21335\, Deutschland
ATTACH;FMTTYPE=image/jpeg:https://www.tea-and-records.de/woo/wp-content/uploads/2025/09/terra-Flop-BoN.jpg
ORGANIZER;CN="Samowar Tea & Records":MAILTO:info@tea-and-records.de
END:VEVENT
END:VCALENDAR