BEGIN:VCALENDAR
VERSION:2.0
PRODID:-//tea-an-records.de - ECPv6.15.20//NONSGML v1.0//EN
CALSCALE:GREGORIAN
METHOD:PUBLISH
X-ORIGINAL-URL:https://www.tea-and-records.de
X-WR-CALDESC:Veranstaltungen für tea-an-records.de
REFRESH-INTERVAL;VALUE=DURATION:PT1H
X-Robots-Tag:noindex
X-PUBLISHED-TTL:PT1H
BEGIN:VTIMEZONE
TZID:Europe/Berlin
BEGIN:DAYLIGHT
TZOFFSETFROM:+0100
TZOFFSETTO:+0200
TZNAME:CEST
DTSTART:20230326T010000
END:DAYLIGHT
BEGIN:STANDARD
TZOFFSETFROM:+0200
TZOFFSETTO:+0100
TZNAME:CET
DTSTART:20231029T010000
END:STANDARD
BEGIN:DAYLIGHT
TZOFFSETFROM:+0100
TZOFFSETTO:+0200
TZNAME:CEST
DTSTART:20240331T010000
END:DAYLIGHT
BEGIN:STANDARD
TZOFFSETFROM:+0200
TZOFFSETTO:+0100
TZNAME:CET
DTSTART:20241027T010000
END:STANDARD
BEGIN:DAYLIGHT
TZOFFSETFROM:+0100
TZOFFSETTO:+0200
TZNAME:CEST
DTSTART:20250330T010000
END:DAYLIGHT
BEGIN:STANDARD
TZOFFSETFROM:+0200
TZOFFSETTO:+0100
TZNAME:CET
DTSTART:20251026T010000
END:STANDARD
END:VTIMEZONE
BEGIN:VEVENT
DTSTART;TZID=Europe/Berlin:20240503T190000
DTEND;TZID=Europe/Berlin:20240503T223000
DTSTAMP:20260425T122522
CREATED:20240215T191343Z
LAST-MODIFIED:20240215T191343Z
UID:35570-1714762800-1714775400@www.tea-and-records.de
SUMMARY:"Hallo\, Sie können uns Suzen."  - Lüneburger Autorengruppe DisFus
DESCRIPTION:„Hallo\, Sie können uns Suzen.“ Die Lüneburger Autorengruppe DisFus wird sechzehneinhalb. Bei unserer Jubiläumslesung geht es wieder darum\, dass eine gewisse Disfunktionalität im Leben eingebaut ist\, um Motoren\, Michaels und runde Geburtstage. Vielleicht auch um Suzanne\, den Lehrer von damals\, oder ganz andere Dinge\, von denen wir dann wissen\, welche sie sein werden. Kurze Texte\, leicht und mehr verdaulich\, auf jeden Fall nahrhaft\, und: Bier. \nAb 19 Uhr ist die Bar eröffnet. Kommt zahlreich. \nHutkasse.
URL:https://www.tea-and-records.de/event/hallo-sie-koennen-uns-suzen-lueneburger-autorengruppe-disfus/
LOCATION:Samowar Tea&Records\, Am Sande 33\, Lüneburg\, Niedersachsen\, 21335\, Deutschland
ATTACH;FMTTYPE=image/png:https://www.tea-and-records.de/woo/wp-content/uploads/2024/02/2.png
ORGANIZER;CN="Samowar Tea & Records":MAILTO:info@tea-and-records.de
END:VEVENT
BEGIN:VEVENT
DTSTART;TZID=Europe/Berlin:20240508T200000
DTEND;TZID=Europe/Berlin:20240508T233000
DTSTAMP:20260425T122522
CREATED:20231214T210601Z
LAST-MODIFIED:20240506T074915Z
UID:35054-1715198400-1715211000@www.tea-and-records.de
SUMMARY:Christian Kjellvander (SE) + Deer Anna (HH) - Konzert
DESCRIPTION:Bereits zum 4. Mal dürfen wir Christian Kjellvander bei uns im Samowar begrüßen\, das 1. Mal jedoch in unserem Cottage und dieses Mal wieder als Duo. Es ist uns eine Ehre\, dass der große schwedische Singer-Songwriter immer wieder zu uns kommen mag und Ihr einfach nicht genug von ihm bekommen könnt. Langweilig wird es ja auch nicht\, da er jedes Mal wieder ein neues Album mit im Gepäck hat. Dieses Mal ist es: „Hold Your Love Still“ (release date: 3 November 2023) \n“I want to give you this and ask for nothing in return.” \nVon einem zarten Schleier des Halls umgeben\, eröffnet uns Christian Kjellvander mit seiner sanften Stimme die Tür zu seinem neuesten Werk „Hold Your Love Still“ – sein erstes Soloalbum seit „About Love And Loving Again“ aus dem Jahr 2020. In dieser Schaffensphase zeigt sich Kjellvander von seiner reflektierenden Seite und erkundet die Herausforderungen einer aufrichtigen Lebensführung\, verstrickt in den komplexen Einflüssen des Kapitalismus. Gleichzeitig fordert er uns dazu auf\, die Hoffnung auf eine bessere Zukunft nicht zu verlieren. \nDas Album beschäftigt sich mit existenziellen und umweltbedingten Spannungen\, wandelt jedoch gekonnt zwischen Stoizismus und Optimismus. Er bereichert seine charakteristische melancholische Stimmung mit schwebenden Kompositionen in Dur\, die jeden Song zu einem tiefgründigen Erlebnis machen. Jeder Song ist präzise und durchdacht – im Gegensatz zu den musikalischen Grenzüberschreitungen\, die für seine letzten Werke prägend waren\, vollzieht er nun eine bewusste Hinwendung zum Song. Die Texte sind voller natürlicher Bilder\, subtiler Poesie und faszinierender Empathie. Dies ist die Arbeit eines erfahrenen Songwriters\, der sich in Höchstform präsentiert. \n\nSOLITICKET SAMOWAR: Da Kultur ja bekanntlicherweise leider nicht sehr viel einbringt\, gibt es ab sofort das SAMOWAR SOLITICKET mit dem Ihr\, sofern Ihr es Euch leisten mögt und könnt\, die Möglichkeit habt uns zu zusätzlich zu unterstützen. Der Großteil der Einnahmen geht bei unseren Konzerten an die Bands und das möchten wir auch weiter so handhaben\, damit sie wiederkommen und sich wohl bei uns fühlen. Da die Miete jedoch trotzdem bezahlt werden muss\,  freuen wir uns über Eure Hilfe\, damit wir weiterhin so schöne gemeinsame Konzertmomente im Samowar Cottage erleben können. DANKE an alle von Euch! \n \n \nDie Hamburger Dreampop Künstlerin DEER ANNA veröffentliche Ende letzten Jahres Ihr Debüt „Sometimes I’m Dizzy When I Scream“. Wir konnten sie live erleben und waren so begeistert\, dass wir sie gleich zu uns eingeladen haben und freuen uns mega\, dass sie zugesagt hat. \n \n  \n  \n  \n  \n  \n  \n  \n  \n  \n  \n  \n  \n  \n 
URL:https://www.tea-and-records.de/event/christian-kjellvander/
LOCATION:Samowar Tea&Records\, Am Sande 33\, Lüneburg\, Niedersachsen\, 21335\, Deutschland
ATTACH;FMTTYPE=image/jpeg:https://www.tea-and-records.de/woo/wp-content/uploads/2023/12/Kjellvander-.jpg
ORGANIZER;CN="Samowar Tea & Records":MAILTO:info@tea-and-records.de
END:VEVENT
END:VCALENDAR