BEGIN:VCALENDAR
VERSION:2.0
PRODID:-//tea-an-records.de - ECPv6.15.20//NONSGML v1.0//EN
CALSCALE:GREGORIAN
METHOD:PUBLISH
X-ORIGINAL-URL:https://www.tea-and-records.de
X-WR-CALDESC:Veranstaltungen für tea-an-records.de
REFRESH-INTERVAL;VALUE=DURATION:PT1H
X-Robots-Tag:noindex
X-PUBLISHED-TTL:PT1H
BEGIN:VTIMEZONE
TZID:Europe/Berlin
BEGIN:DAYLIGHT
TZOFFSETFROM:+0100
TZOFFSETTO:+0200
TZNAME:CEST
DTSTART:20240331T010000
END:DAYLIGHT
BEGIN:STANDARD
TZOFFSETFROM:+0200
TZOFFSETTO:+0100
TZNAME:CET
DTSTART:20241027T010000
END:STANDARD
BEGIN:DAYLIGHT
TZOFFSETFROM:+0100
TZOFFSETTO:+0200
TZNAME:CEST
DTSTART:20250330T010000
END:DAYLIGHT
BEGIN:STANDARD
TZOFFSETFROM:+0200
TZOFFSETTO:+0100
TZNAME:CET
DTSTART:20251026T010000
END:STANDARD
BEGIN:DAYLIGHT
TZOFFSETFROM:+0100
TZOFFSETTO:+0200
TZNAME:CEST
DTSTART:20260329T010000
END:DAYLIGHT
BEGIN:STANDARD
TZOFFSETFROM:+0200
TZOFFSETTO:+0100
TZNAME:CET
DTSTART:20261025T010000
END:STANDARD
END:VTIMEZONE
BEGIN:VEVENT
DTSTART;TZID=Europe/Berlin:20250208T200000
DTEND;TZID=Europe/Berlin:20250208T233000
DTSTAMP:20260421T024016
CREATED:20241212T153057Z
LAST-MODIFIED:20250112T164901Z
UID:37352-1739044800-1739057400@www.tea-and-records.de
SUMMARY:LAURA LEE -  Support: OVE (Konzert)
DESCRIPTION:Wir freuen uns mega\, dass LAURA LEE zu uns kommt. Schon lange steht sie auf meiner Bookingliste und daher ist die Freude umso größer! \nAlso known as one half of internationally renowned indie rock duo Gurr\, Laura Lee steps back into the limelight\, this time as chief songwriter and front woman of Laura Lee & the Jettes.  Surrounding herself with some of Berlin’s finest musicians\, Lee’s new project strikes some more mature and underground tones but keeping its pop sensibilities. Influenced\, among others\, by German Krautrock legends such as Neu! and Can\, Lee explains: “It’s insane how influential these bands were on so many American acts while they remain still so unknown in German mainstream music.” Laura Lee\, mother and songwriter\, has been making music since she was a teenager and cites acts as diverse as Oasis and Sonic Youth as important influences. In 2016 she released the album „In My Head“ as part of the duo Gurr. The band conquered Great Britain and the USA from Germany and won the highly acclaimed IMPALA European Album of the Year Award. In 2021\, Laura Lee & the Jettes released their album „Wasteland“\, which again attracted international attention\, with appearances on BBC 6 Music\, a session on NPR and a US tour before supporting The Beatsteaks in Germany\, including two nights in in the 20\,000-seater Wuhlheide Arena − while Laura was eight months pregnant. \nAfter taking a break to focus on her role as a mother\, Laura continues to be active in the music industry. She made two autobiographical documentaries\, including one by Vice\, and appeared at the Schauspiel Leipzig in the play „Master and Margarita“\, for which she was also responsible for the music together with Paul Pötsch. \n\n \n \n \n\n\n \nzur Bandseite\n \nOVE\nWo ist es am schönsten? Ove Thomsens Antwort lautet: Unter uns! Der Sänger und Songschreiber war jahrelang mit seiner Band “OVE“ und als Teil der Indie-Folkband “Torpus & The Art Directors“ unterwegs. Als Teil des Kindermusikduos “Deniz & Ove” hater sich nun auch der jüngeren Zuhörerschaft angenommen und bringt kleine und größere Herzen zum Hüpfen. In seinem Kinderbuchdebüt “Regen im Kopf”\, welches zweisprachig auf Hoch- und Plattdeutsch beim JUMBO Verlag erschienen ist\, setzt er sich auf kindgerechte Weise mit den\nThemen Burnout und Depressionen auseinander. In Hamburg nennt man Ove oft einen bunten Hund\, er selbst sieht sich aber lieber als\nnordfriesische Frohnatur. Apropos bunt – Am 13.9. erschien seine neue Single “Ünner de Sünn” auf allen digitalenStreamingplattformen. Ein lebensbejahender Song auf Plattdeutsch über Gemeinsamkeiten und Verschiedenheiten mit einer klaren Haltung gegen Rassismus.\nIm Fanklub OVE MY SHOULDER spricht Ove auch über seine erste Soloplatte.\n \n \n \n\n \nSOLITICKET SAMOWAR: Da Kultur ja bekanntlicherweise leider nicht sehr viel einbringt\, gibt es ab sofort das SAMOWAR SOLITICKET mit dem Ihr\, sofern Ihr es Euch leisten mögt und könnt\, die Möglichkeit habt uns zu zusätzlich zu unterstützen. Der Großteil der Einnahmen geht bei unseren Konzerten an die Bands und das möchten wir auch weiter so handhaben\, damit sie wiederkommen und sich wohl bei uns fühlen. Da die Miete jedoch trotzdem bezahlt werden muss\,  freuen wir uns über Eure Hilfe\, damit wir weiterhin so schöne gemeinsame Konzertmomente im Samowar Cottage erleben können. DANKE an alle von Euch!
URL:https://www.tea-and-records.de/event/laura-lee-konzert/
LOCATION:Samowar Tea&Records\, Am Sande 33\, Lüneburg\, Niedersachsen\, 21335\, Deutschland
ATTACH;FMTTYPE=image/png:https://www.tea-and-records.de/woo/wp-content/uploads/2024/12/Laura-Lee.png
ORGANIZER;CN="Samowar Tea & Records":MAILTO:info@tea-and-records.de
END:VEVENT
BEGIN:VEVENT
DTSTART;TZID=Europe/Berlin:20250211T193000
DTEND;TZID=Europe/Berlin:20250211T193000
DTSTAMP:20260421T024016
CREATED:20250211T122715Z
LAST-MODIFIED:20250211T130502Z
UID:37768-1739302200-1739302200@www.tea-and-records.de
SUMMARY:Writing Society mit Paula Coulin
DESCRIPTION:Jeden Dienstag* im Monat um 19 Uhr 30 trifft sich unsere „Writing Society“ zum kreativen Schreiben. Anarchisch\, witzig\, motiviert oder verlegen – wir schreiben spontan kleine Texte\, um uns bei einer Tasse Tee daran zu erfreuen. Jeder kann vorbeischauen\, es ist kein Vorwissen oder eine regelmäßige Teilnahme notwendig. 5 Euro Spende für die Raummiete sind erwünscht\, Tee inklusive – und wer bringt Kekse mit? 🙂 \nmit Paula Coulin \n*nicht in den Schulferien (Niedersachsen) \nVeranstalterin: Paula Coulin
URL:https://www.tea-and-records.de/event/writing-society-mit-paula-coulin-33/
LOCATION:Samowar Tea&Records\, Am Sande 33\, Lüneburg\, Niedersachsen\, 21335\, Deutschland
ATTACH;FMTTYPE=image/jpeg:https://www.tea-and-records.de/woo/wp-content/uploads/2023/07/Paula-Coulin-scaled.jpg
ORGANIZER;CN="Paula Coulin":MAILTO:kontakt@paulacoulin.com
END:VEVENT
BEGIN:VEVENT
DTSTART;TZID=Europe/Berlin:20250218T193000
DTEND;TZID=Europe/Berlin:20250218T193000
DTSTAMP:20260421T024016
CREATED:20250211T122826Z
LAST-MODIFIED:20250211T130427Z
UID:37770-1739907000-1739907000@www.tea-and-records.de
SUMMARY:Writing Society mit Paula Coulin
DESCRIPTION:Jeden Dienstag* im Monat um 19 Uhr 30 trifft sich unsere „Writing Society“ zum kreativen Schreiben. Anarchisch\, witzig\, motiviert oder verlegen – wir schreiben spontan kleine Texte\, um uns bei einer Tasse Tee daran zu erfreuen. Jeder kann vorbeischauen\, es ist kein Vorwissen oder eine regelmäßige Teilnahme notwendig. 5 Euro Spende für die Raummiete sind erwünscht\, Tee inklusive – und wer bringt Kekse mit? 🙂 \nmit Paula Coulin \n*nicht in den Schulferien (Niedersachsen) \nVeranstalterin: Paula Coulin
URL:https://www.tea-and-records.de/event/writing-society-mit-paula-coulin-34/
LOCATION:Samowar Tea&Records\, Am Sande 33\, Lüneburg\, Niedersachsen\, 21335\, Deutschland
ATTACH;FMTTYPE=image/jpeg:https://www.tea-and-records.de/woo/wp-content/uploads/2023/07/Paula-Coulin-scaled.jpg
ORGANIZER;CN="Paula Coulin":MAILTO:kontakt@paulacoulin.com
END:VEVENT
BEGIN:VEVENT
DTSTART;TZID=Europe/Berlin:20250225T193000
DTEND;TZID=Europe/Berlin:20250225T193000
DTSTAMP:20260421T024016
CREATED:20250211T123139Z
LAST-MODIFIED:20250211T123139Z
UID:37774-1740511800-1740511800@www.tea-and-records.de
SUMMARY:Writing Society mit Paula Coulin
DESCRIPTION:Jeden Dienstag* im Monat um 19 Uhr 30 trifft sich unsere „Writing Society“ zum kreativen Schreiben. Anarchisch\, witzig\, motiviert oder verlegen – wir schreiben spontan kleine Texte\, um uns bei einer Tasse Tee daran zu erfreuen. Jeder kann vorbeischauen\, es ist kein Vorwissen oder eine regelmäßige Teilnahme notwendig. 5 Euro Spende für die Raummiete sind erwünscht\, Tee inklusive – und wer bringt Kekse mit? 🙂 \nmit Paula Coulin \n*nicht in den Schulferien (Niedersachsen)
URL:https://www.tea-and-records.de/event/writing-society-mit-paula-coulin-36/
LOCATION:Samowar Tea&Records\, Am Sande 33\, Lüneburg\, Niedersachsen\, 21335\, Deutschland
ATTACH;FMTTYPE=image/jpeg:https://www.tea-and-records.de/woo/wp-content/uploads/2023/07/Paula-Coulin-scaled.jpg
ORGANIZER;CN="Paula Coulin":MAILTO:kontakt@paulacoulin.com
END:VEVENT
BEGIN:VEVENT
DTSTART;TZID=Europe/Berlin:20250227T190000
DTEND;TZID=Europe/Berlin:20250227T213000
DTSTAMP:20260421T024016
CREATED:20241212T153433Z
LAST-MODIFIED:20250211T130138Z
UID:37359-1740682800-1740691800@www.tea-and-records.de
SUMMARY:TROTZDEM - Geschichten vom Scheitern und daran Wachsen
DESCRIPTION:TROTZDEM – Geschichten vom Scheitern und daran Wachsen. \nEin Gesprächsabend rund um das Thema Scheitern: \nDrei ausgewählte Interviewpartnerinnen erzählen ihre Geschichte und wie sie letztlich daran gewachsen sind. Ich heiße Brigitte Hawelka\, bin Kulturanthropologin\, Clownpädagogin und Prozessbegleitung für Inklusion und führe die Interviewpartnerinnen und Zuhörer durch den Abend. \nMein Interesse ist es\, dafür zu sensibilisieren\, Misserfolge auch als Erfahrung und Chance zu sehen\, und nicht wie so oft als persönliche Niederlage zu bewerten. Gerade Frauen haben Probleme ihren Perfektionismus zu überwinden\, auch deshalb ist dieser Abend: ONLY FOR WOMEN \nDu fühlst Dich angesprochen\, als Interviewpartnerin Deine Geschichte zu erzählen? Dann lade ich Dich ein\, mit mir in Kontakt zu treten: brigittehawelka@gmx.de \nHutspende \nVeranstalterin: Brigitte Hawelka \n 
URL:https://www.tea-and-records.de/event/trotzdem-geschichten-vom-scheitern-und-daran-wachsen-5/
LOCATION:Samowar Tea&Records\, Am Sande 33\, Lüneburg\, Niedersachsen\, 21335\, Deutschland
ATTACH;FMTTYPE=image/jpeg:https://www.tea-and-records.de/woo/wp-content/uploads/2024/01/brigitte-2.jpeg
ORGANIZER;CN="Samowar Tea & Records":MAILTO:info@tea-and-records.de
END:VEVENT
END:VCALENDAR