BEGIN:VCALENDAR
VERSION:2.0
PRODID:-//tea-an-records.de - ECPv6.15.20//NONSGML v1.0//EN
CALSCALE:GREGORIAN
METHOD:PUBLISH
X-ORIGINAL-URL:https://www.tea-and-records.de
X-WR-CALDESC:Veranstaltungen für tea-an-records.de
REFRESH-INTERVAL;VALUE=DURATION:PT1H
X-Robots-Tag:noindex
X-PUBLISHED-TTL:PT1H
BEGIN:VTIMEZONE
TZID:Europe/Berlin
BEGIN:DAYLIGHT
TZOFFSETFROM:+0100
TZOFFSETTO:+0200
TZNAME:CEST
DTSTART:20240331T010000
END:DAYLIGHT
BEGIN:STANDARD
TZOFFSETFROM:+0200
TZOFFSETTO:+0100
TZNAME:CET
DTSTART:20241027T010000
END:STANDARD
BEGIN:DAYLIGHT
TZOFFSETFROM:+0100
TZOFFSETTO:+0200
TZNAME:CEST
DTSTART:20250330T010000
END:DAYLIGHT
BEGIN:STANDARD
TZOFFSETFROM:+0200
TZOFFSETTO:+0100
TZNAME:CET
DTSTART:20251026T010000
END:STANDARD
BEGIN:DAYLIGHT
TZOFFSETFROM:+0100
TZOFFSETTO:+0200
TZNAME:CEST
DTSTART:20260329T010000
END:DAYLIGHT
BEGIN:STANDARD
TZOFFSETFROM:+0200
TZOFFSETTO:+0100
TZNAME:CET
DTSTART:20261025T010000
END:STANDARD
END:VTIMEZONE
BEGIN:VEVENT
DTSTART;TZID=Europe/Berlin:20250401T193000
DTEND;TZID=Europe/Berlin:20250401T193000
DTSTAMP:20260420T233934
CREATED:20250211T123658Z
LAST-MODIFIED:20250211T152139Z
UID:37782-1743535800-1743535800@www.tea-and-records.de
SUMMARY:Writing Society mit Paula Coulin
DESCRIPTION:Jeden Dienstag* im Monat um 19 Uhr 30 trifft sich unsere „Writing Society“ zum kreativen Schreiben. Anarchisch\, witzig\, motiviert oder verlegen – wir schreiben spontan kleine Texte\, um uns bei einer Tasse Tee daran zu erfreuen. Jeder kann vorbeischauen\, es ist kein Vorwissen oder eine regelmäßige Teilnahme notwendig. 5 Euro Spende für die Raummiete sind erwünscht\, Tee inklusive – und wer bringt Kekse mit? 🙂 \nmit Paula Coulin \n*nicht in den Schulferien (Niedersachsen) \nVeranstalterin: Paula Coulin
URL:https://www.tea-and-records.de/event/writing-society-mit-paula-coulin-40/
LOCATION:Samowar Tea&Records\, Am Sande 33\, Lüneburg\, Niedersachsen\, 21335\, Deutschland
ATTACH;FMTTYPE=image/jpeg:https://www.tea-and-records.de/woo/wp-content/uploads/2023/07/Paula-Coulin-scaled.jpg
ORGANIZER;CN="Paula Coulin":MAILTO:kontakt@paulacoulin.com
END:VEVENT
BEGIN:VEVENT
DTSTART;TZID=Europe/Berlin:20250419T143000
DTEND;TZID=Europe/Berlin:20250419T163000
DTSTAMP:20260420T233934
CREATED:20241212T145952Z
LAST-MODIFIED:20241212T150605Z
UID:37349-1745073000-1745080200@www.tea-and-records.de
SUMMARY:British Tea Time - High Tea Party
DESCRIPTION:Ihr wolltet immer schon mal eine echte englische Tea Time genießen mit hübsch bestückter Etagère und köstlichem Tee? Das könnt Ihr fast passend zur High Tea Zeit am Sonntag nachmittag stilecht in unserem Cottage. Sabine kredenzt für Euch verschiedene Sandwiches\, Kuchen im Kleinformat und natürlich Scones\, gebacken ganz wie im königlichen Hause mit Buttermilch. Getrunken wird aus Sammeltassen mit Goldrand und die eine oder andere Anekdote über die englische Teezeremonie wird ebenfalls erzählt. \nLet’s tea party!
URL:https://www.tea-and-records.de/event/british-tea-time-high-tea-party-5/
LOCATION:Samowar Tea&Records\, Am Sande 33\, Lüneburg\, Niedersachsen\, 21335\, Deutschland
ATTACH;FMTTYPE=image/png:https://www.tea-and-records.de/woo/wp-content/uploads/2023/07/British-Tea-Time.png
ORGANIZER;CN="Samowar Tea & Records":MAILTO:info@tea-and-records.de
END:VEVENT
BEGIN:VEVENT
DTSTART;TZID=Europe/Berlin:20250422T193000
DTEND;TZID=Europe/Berlin:20250422T193000
DTSTAMP:20260420T233934
CREATED:20250211T152346Z
LAST-MODIFIED:20250211T152346Z
UID:37800-1745350200-1745350200@www.tea-and-records.de
SUMMARY:Writing Society mit Paula Coulin
DESCRIPTION:Jeden Dienstag* im Monat um 19 Uhr 30 trifft sich unsere „Writing Society“ zum kreativen Schreiben. Anarchisch\, witzig\, motiviert oder verlegen – wir schreiben spontan kleine Texte\, um uns bei einer Tasse Tee daran zu erfreuen. Jeder kann vorbeischauen\, es ist kein Vorwissen oder eine regelmäßige Teilnahme notwendig. 5 Euro Spende für die Raummiete sind erwünscht\, Tee inklusive – und wer bringt Kekse mit? 🙂 \nmit Paula Coulin \n*nicht in den Schulferien (Niedersachsen) \nVeranstalterin: Paula Coulin
URL:https://www.tea-and-records.de/event/writing-society-mit-paula-coulin-42/
LOCATION:Samowar Tea&Records\, Am Sande 33\, Lüneburg\, Niedersachsen\, 21335\, Deutschland
ATTACH;FMTTYPE=image/jpeg:https://www.tea-and-records.de/woo/wp-content/uploads/2023/07/Paula-Coulin-scaled.jpg
ORGANIZER;CN="Paula Coulin":MAILTO:kontakt@paulacoulin.com
END:VEVENT
BEGIN:VEVENT
DTSTART;TZID=Europe/Berlin:20250424T190000
DTEND;TZID=Europe/Berlin:20250424T213000
DTSTAMP:20260420T233934
CREATED:20241212T153540Z
LAST-MODIFIED:20250211T125937Z
UID:37361-1745521200-1745530200@www.tea-and-records.de
SUMMARY:TROTZDEM - Geschichten vom Scheitern und daran Wachsen
DESCRIPTION:TROTZDEM – Geschichten vom Scheitern und daran Wachsen. \nEin Gesprächsabend rund um das Thema Scheitern: \nDrei ausgewählte Interviewpartnerinnen erzählen ihre Geschichte und wie sie letztlich daran gewachsen sind. Ich heiße Brigitte Hawelka\, bin Kulturanthropologin\, Clownpädagogin und Prozessbegleitung für Inklusion und führe die Interviewpartnerinnen und Zuhörer durch den Abend. \nMein Interesse ist es\, dafür zu sensibilisieren\, Misserfolge auch als Erfahrung und Chance zu sehen\, und nicht wie so oft als persönliche Niederlage zu bewerten. Gerade Frauen haben Probleme ihren Perfektionismus zu überwinden\, auch deshalb ist dieser Abend: ONLY FOR WOMEN \nDu fühlst Dich angesprochen\, als Interviewpartnerin Deine Geschichte zu erzählen? Dann lade ich Dich ein\, mit mir in Kontakt zu treten: brigittehawelka@gmx.de \nHutspende \nVeranstalterin: Brigitte Hawelka
URL:https://www.tea-and-records.de/event/trotzdem-geschichten-vom-scheitern-und-daran-wachsen-6/
LOCATION:Samowar Tea&Records\, Am Sande 33\, Lüneburg\, Niedersachsen\, 21335\, Deutschland
ATTACH;FMTTYPE=image/jpeg:https://www.tea-and-records.de/woo/wp-content/uploads/2024/01/brigitte-2.jpeg
ORGANIZER;CN="Samowar Tea & Records":MAILTO:info@tea-and-records.de
END:VEVENT
BEGIN:VEVENT
DTSTART;TZID=Europe/Berlin:20250428T190000
DTEND;TZID=Europe/Berlin:20250428T210000
DTSTAMP:20260420T233934
CREATED:20250224T210244Z
LAST-MODIFIED:20250318T194943Z
UID:37838-1745866800-1745874000@www.tea-and-records.de
SUMMARY:MORTEN KÖNIG - "Die Ohrringe der Zeit" (Lesung)
DESCRIPTION:Morten König liest aus dem Auftakt seiner neuen Fantasy Reihe. \nHast du schon einmal davon geträumt\, durch die Zeit reisen zu können? Wolltest du immer schon dabei sein\, wenn Geschichte geschrieben wird? Dann suche nach den Ohrringen der Zeit. Denn wer sie besitzt\, hält die Geschichte in den Händen. \nDich erwartet eine unterhaltsame Lesung\, in der du Einblicke in den Zeitreise-Roman „Die Ohrringe der Zeit – Verschwörung in Lüneburg“ erhältst. In rund 90 Minuten entführt dich Autor Morten König ins Jahr 1436\, wo die Helden Leander und Lina einem Komplott auf die Spur kommen. Dazu gibt es viele Hintergrundinfos\, Anekdoten aus der Entstehung des Buches und natürlich eine Signierstunde. \nPhantastische Literatur direkt vor der Haustür – Sei dabei\, wenn Lüneburg zum Schauplatz eines großen Abenteuers wird. \nDer 15-jährige Leander Sander ist zunächst wenig begeistert\, als es ihn zusammen mit seiner Tante nach Lüneburg verschlägt. Doch dann findet er magische Ohrringe\, mit denen jede Tür zu einem Zeitportal wird. Schnell finden er und seine neue Freundin Lina sich im Jahr 1436 wieder\, wo sie zahlreiche Abenteuer erleben und einer Verschwörung auf die Spur kommen. Dabei stellen sie fest\, dass die Pläne der Schurken auch den Verlauf der Zeit ändern würden\, und stellen sich mutig zum Kampf. \nDer Auftakt zu einer spannenden Zeitreise-Reihe. \n  \n  \n  \n  \nHutspende\nVeranstalter: Morten König \n 
URL:https://www.tea-and-records.de/event/morten-koenig-die-ohrringe-der-zeit-lesung/
LOCATION:Samowar Tea&Records\, Am Sande 33\, Lüneburg\, Niedersachsen\, 21335\, Deutschland
ATTACH;FMTTYPE=image/jpeg:https://www.tea-and-records.de/woo/wp-content/uploads/2025/02/Morten-Koenig-scaled-e1740431086335.jpg
ORGANIZER;CN="Samowar Tea & Records":MAILTO:info@tea-and-records.de
END:VEVENT
BEGIN:VEVENT
DTSTART;TZID=Europe/Berlin:20250429T193000
DTEND;TZID=Europe/Berlin:20250429T193000
DTSTAMP:20260420T233934
CREATED:20250211T123845Z
LAST-MODIFIED:20250211T152051Z
UID:37760-1745955000-1745955000@www.tea-and-records.de
SUMMARY:Writing Society mit Paula Coulin
DESCRIPTION:Jeden Dienstag* im Monat um 19 Uhr 30 trifft sich unsere „Writing Society“ zum kreativen Schreiben. Anarchisch\, witzig\, motiviert oder verlegen – wir schreiben spontan kleine Texte\, um uns bei einer Tasse Tee daran zu erfreuen. Jeder kann vorbeischauen\, es ist kein Vorwissen oder eine regelmäßige Teilnahme notwendig. 5 Euro Spende für die Raummiete sind erwünscht\, Tee inklusive – und wer bringt Kekse mit? 🙂 \nmit Paula Coulin \n*nicht in den Schulferien (Niedersachsen) \nVeranstalterin: Paula Coulin
URL:https://www.tea-and-records.de/event/writing-society-mit-paula-coulin-41/
LOCATION:Samowar Tea&Records\, Am Sande 33\, Lüneburg\, Niedersachsen\, 21335\, Deutschland
ATTACH;FMTTYPE=image/jpeg:https://www.tea-and-records.de/woo/wp-content/uploads/2023/07/Paula-Coulin-scaled.jpg
ORGANIZER;CN="Paula Coulin":MAILTO:kontakt@paulacoulin.com
END:VEVENT
END:VCALENDAR