BEGIN:VCALENDAR
VERSION:2.0
PRODID:-//tea-an-records.de - ECPv6.15.20//NONSGML v1.0//EN
CALSCALE:GREGORIAN
METHOD:PUBLISH
X-WR-CALNAME:tea-an-records.de
X-ORIGINAL-URL:https://www.tea-and-records.de
X-WR-CALDESC:Veranstaltungen für tea-an-records.de
REFRESH-INTERVAL;VALUE=DURATION:PT1H
X-Robots-Tag:noindex
X-PUBLISHED-TTL:PT1H
BEGIN:VTIMEZONE
TZID:Europe/Berlin
BEGIN:DAYLIGHT
TZOFFSETFROM:+0100
TZOFFSETTO:+0200
TZNAME:CEST
DTSTART:20240331T010000
END:DAYLIGHT
BEGIN:STANDARD
TZOFFSETFROM:+0200
TZOFFSETTO:+0100
TZNAME:CET
DTSTART:20241027T010000
END:STANDARD
BEGIN:DAYLIGHT
TZOFFSETFROM:+0100
TZOFFSETTO:+0200
TZNAME:CEST
DTSTART:20250330T010000
END:DAYLIGHT
BEGIN:STANDARD
TZOFFSETFROM:+0200
TZOFFSETTO:+0100
TZNAME:CET
DTSTART:20251026T010000
END:STANDARD
BEGIN:DAYLIGHT
TZOFFSETFROM:+0100
TZOFFSETTO:+0200
TZNAME:CEST
DTSTART:20260329T010000
END:DAYLIGHT
BEGIN:STANDARD
TZOFFSETFROM:+0200
TZOFFSETTO:+0100
TZNAME:CET
DTSTART:20261025T010000
END:STANDARD
END:VTIMEZONE
BEGIN:VEVENT
DTSTART;TZID=Europe/Berlin:20250506T193000
DTEND;TZID=Europe/Berlin:20250506T193000
DTSTAMP:20260420T215718
CREATED:20250504T080012Z
LAST-MODIFIED:20250504T080012Z
UID:38343-1746559800-1746559800@www.tea-and-records.de
SUMMARY:Writing Society mit Paula Coulin
DESCRIPTION:Jeden Dienstag* im Monat um 19 Uhr 30 trifft sich unsere „Writing Society“ zum kreativen Schreiben. Anarchisch\, witzig\, motiviert oder verlegen – wir schreiben spontan kleine Texte\, um uns bei einer Tasse Tee daran zu erfreuen. Jeder kann vorbeischauen\, es ist kein Vorwissen oder eine regelmäßige Teilnahme notwendig. 5 Euro Spende für die Raummiete sind erwünscht\, Tee inklusive – und wer bringt Kekse mit? 🙂 \nmit Paula Coulin \n*nicht in den Schulferien (Niedersachsen) \nVeranstalterin: Paula Coulin
URL:https://www.tea-and-records.de/event/writing-society-mit-paula-coulin-43/
LOCATION:Samowar Tea&Records\, Am Sande 33\, Lüneburg\, Niedersachsen\, 21335\, Deutschland
ATTACH;FMTTYPE=image/jpeg:https://www.tea-and-records.de/woo/wp-content/uploads/2023/07/Paula-Coulin-scaled.jpg
ORGANIZER;CN="Paula Coulin":MAILTO:kontakt@paulacoulin.com
END:VEVENT
BEGIN:VEVENT
DTSTART;TZID=Europe/Berlin:20250513T193000
DTEND;TZID=Europe/Berlin:20250513T193000
DTSTAMP:20260420T215718
CREATED:20250504T080058Z
LAST-MODIFIED:20250504T080058Z
UID:38345-1747164600-1747164600@www.tea-and-records.de
SUMMARY:Writing Society mit Paula Coulin
DESCRIPTION:Jeden Dienstag* im Monat um 19 Uhr 30 trifft sich unsere „Writing Society“ zum kreativen Schreiben. Anarchisch\, witzig\, motiviert oder verlegen – wir schreiben spontan kleine Texte\, um uns bei einer Tasse Tee daran zu erfreuen. Jeder kann vorbeischauen\, es ist kein Vorwissen oder eine regelmäßige Teilnahme notwendig. 5 Euro Spende für die Raummiete sind erwünscht\, Tee inklusive – und wer bringt Kekse mit? 🙂 \nmit Paula Coulin \n*nicht in den Schulferien (Niedersachsen) \nVeranstalterin: Paula Coulin
URL:https://www.tea-and-records.de/event/writing-society-mit-paula-coulin-44/
LOCATION:Samowar Tea&Records\, Am Sande 33\, Lüneburg\, Niedersachsen\, 21335\, Deutschland
ATTACH;FMTTYPE=image/jpeg:https://www.tea-and-records.de/woo/wp-content/uploads/2023/07/Paula-Coulin-scaled.jpg
ORGANIZER;CN="Paula Coulin":MAILTO:kontakt@paulacoulin.com
END:VEVENT
BEGIN:VEVENT
DTSTART;TZID=Europe/Berlin:20250520T193000
DTEND;TZID=Europe/Berlin:20250520T193000
DTSTAMP:20260420T215718
CREATED:20250504T080224Z
LAST-MODIFIED:20250504T080224Z
UID:38348-1747769400-1747769400@www.tea-and-records.de
SUMMARY:Writing Society mit Paula Coulin
DESCRIPTION:Jeden Dienstag* im Monat um 19 Uhr 30 trifft sich unsere „Writing Society“ zum kreativen Schreiben. Anarchisch\, witzig\, motiviert oder verlegen – wir schreiben spontan kleine Texte\, um uns bei einer Tasse Tee daran zu erfreuen. Jeder kann vorbeischauen\, es ist kein Vorwissen oder eine regelmäßige Teilnahme notwendig. 5 Euro Spende für die Raummiete sind erwünscht\, Tee inklusive – und wer bringt Kekse mit? 🙂 \nmit Paula Coulin \n*nicht in den Schulferien (Niedersachsen) \nVeranstalterin: Paula Coulin
URL:https://www.tea-and-records.de/event/writing-society-mit-paula-coulin-45/
LOCATION:Samowar Tea&Records\, Am Sande 33\, Lüneburg\, Niedersachsen\, 21335\, Deutschland
ATTACH;FMTTYPE=image/jpeg:https://www.tea-and-records.de/woo/wp-content/uploads/2023/07/Paula-Coulin-scaled.jpg
ORGANIZER;CN="Paula Coulin":MAILTO:kontakt@paulacoulin.com
END:VEVENT
BEGIN:VEVENT
DTSTART;TZID=Europe/Berlin:20250523T190000
DTEND;TZID=Europe/Berlin:20250523T230000
DTSTAMP:20260420T215718
CREATED:20250211T124156Z
LAST-MODIFIED:20250521T071725Z
UID:37785-1748026800-1748041200@www.tea-and-records.de
SUMMARY:Deine Texte - Unsere Ohren -Open Mic
DESCRIPTION:Deine Texte – unsere Ohren. Open Mic im Samowar  \nBringt Eure Texte\, Melodien und Comedy-Einlagen mit und LET US INFUSE THE GOOD STUFF. Einzige Bedingung: Euer Auftritt ist nicht länger als eine gute Tasse Tee zieht. Also: von zwei bis acht Minuten ist alles drin\, danach wird’s bitter. Wir lieben Euch schon jetzt! \nApplausgarantie für jede Performer*in. \nMeldet Euch gern vorab bei uns: events@tea-and-records.de oder schaut spontan vorbei.  \n\nFreitag\, 23. Mai 2025 –  19.30 Uhr Beginn / 19 Uhr Einlass\nHutspende + Getränke \nVeranstalterin: Paula Coulin
URL:https://www.tea-and-records.de/event/deine-texte-unsere-ohren-open-mic-5/
LOCATION:Samowar Tea&Records\, Am Sande 33\, Lüneburg\, Niedersachsen\, 21335\, Deutschland
ATTACH;FMTTYPE=image/png:https://www.tea-and-records.de/woo/wp-content/uploads/2023/07/1.png
ORGANIZER;CN="Samowar Tea & Records":MAILTO:info@tea-and-records.de
END:VEVENT
BEGIN:VEVENT
DTSTART;TZID=Europe/Berlin:20250524T200000
DTEND;TZID=Europe/Berlin:20250524T233000
DTSTAMP:20260420T215718
CREATED:20241208T005139Z
LAST-MODIFIED:20250523T114857Z
UID:37271-1748116800-1748129400@www.tea-and-records.de
SUMMARY:KRATZEN - Konzert (Support: ISMOS)
DESCRIPTION:Repetitiv – motorisch – stoisch – reduziert – das 2017 in Köln gegründete Trio Kratzen verbindet Krautrock und New Wave. Sie nennen es Krautwave. Der Charakter von KRATZEN entsteht aus der Limitation. Die Band spielt nur das Nötigste. Am 17. Januar 2025 ist das\ndritte Album „III“ der Kölner Band erschienen – wieder als handgestempeltes\, limitiertes Vinyl. Produziert wurde „III“ wie schon das Vorgängeralbum „zwei“ (VÖ 2022) von Olaf Opal (u. a. Notwist\, International Music).\n \n\nPressestimmen zu „III“:\n„Jeder nur so viel\, wie er muss\, lautet die Devise bei Melanie Graf\,\nThomas Mersch und Stefanie Staub. Dieses Schema wiederholt sich\nnicht nur mit jedem Song\, sondern auch mit jeder Platte. Dass das\nnicht öde wird\, liegt daran\, dass Kratzen den Charme der NDW\nverinnerlicht haben und ihr Sound diese herrlich retroromantische\nNote reitet … In der hypnotischen Repetition ihrer Krautrock-Elemente\, die sie so\ngekonnt wie bedacht einsetzen\, manifestieren sich dann die Slogans: „Wenn es\njemand schafft\, dann du.“ Ein wunderbares Album vom tristen\nMittelpunkt einer orientierungslosen BRD.“ VISIONS\n„[Die Band Kratzen] vollendet mit dem neuen Album fulminant ihre Dreieinigkeit\ndes minimalistisch reduzierten Krautwave. Dafür haben sich die Bandmitglieder\nerneut voller Hingabe jeglicher künstlerischen Eitelkeit\, instrumentaler oder\nvokaler Ausschweifung und virtuoser Unmäßigkeit entsagt\, auch von ebenfalls\nunbotmäßiger Trägheit ist nichts zu verspüren.“ Kaput Mag\n„Es sind solche emotional wie musikalisch präzisen\, (alb-)traumhaften Momente\,\nin denen „III“ besonders funkelt und am liebsten ganz bei sich bleibt. Dennoch\nleisten sich Kratzen auch lichte Augenblicke und leicht vom strikten Kurs\nabweichende Songs\, die ins Gedächtnis rufen\, dass die Dinge doch nicht ganz\nso hoffnungslos liegen.“ Plattentest \nFoto: Celina Palenda \n\n \n\n\n \nSupportet werden KRATZEN von den Wahllüneburgern ISMOS.\n\nISMOS ist eine Fusion aus Post-Punk und Indie-Rock\, die tiefgreifende Emotionen und Sozialkritik vereint.\nDie Band besteht aus José Cordero als Leadsänger und Songwriter\, Eduardo Noboa als Bassist und musikalischer \nKomponist\, Eugen Winterberger als Gitarrist und für die Klangtechnik sowie Jan-Phillip Meyer an den Drums und \nin der Produktion. Ihre innovativen Kompositionen kombinieren treibende Rhythmen mit introspektiven Texten und\nladen die Zuhörer:innen ein\, die Komplexität menschlicher Erfahrungen zu erkunden. \n\n\n  \nSOLITICKET SAMOWAR: Da Kultur ja bekanntlicherweise leider nicht sehr viel einbringt\, gibt es ab sofort das SAMOWAR SOLITICKET mit dem Ihr\, sofern Ihr es Euch leisten mögt und könnt\, die Möglichkeit habt uns zu zusätzlich zu unterstützen. Der Großteil der Einnahmen geht bei unseren Konzerten an die Bands und das möchten wir auch weiter so handhaben\, damit sie wiederkommen und sich wohl bei uns fühlen. Da die Miete jedoch trotzdem bezahlt werden muss\,  freuen wir uns über Eure Hilfe\, damit wir weiterhin so schöne gemeinsame Konzertmomente im Samowar Cottage erleben können. DANKE an alle von Euch!
URL:https://www.tea-and-records.de/event/kratzen-konzert-support-ismos/
LOCATION:Samowar Tea&Records\, Am Sande 33\, Lüneburg\, Niedersachsen\, 21335\, Deutschland
ATTACH;FMTTYPE=image/jpeg:https://www.tea-and-records.de/woo/wp-content/uploads/2024/12/Kratzen-1_Bildnachweis-Celina-Palenda-scaled.jpg
ORGANIZER;CN="Samowar Tea & Records":MAILTO:info@tea-and-records.de
END:VEVENT
BEGIN:VEVENT
DTSTART;TZID=Europe/Berlin:20250527T193000
DTEND;TZID=Europe/Berlin:20250527T193000
DTSTAMP:20260420T215718
CREATED:20250504T081326Z
LAST-MODIFIED:20250504T081326Z
UID:38351-1748374200-1748374200@www.tea-and-records.de
SUMMARY:Writing Society mit Paula Coulin
DESCRIPTION:Jeden Dienstag* im Monat um 19 Uhr 30 trifft sich unsere „Writing Society“ zum kreativen Schreiben. Anarchisch\, witzig\, motiviert oder verlegen – wir schreiben spontan kleine Texte\, um uns bei einer Tasse Tee daran zu erfreuen. Jeder kann vorbeischauen\, es ist kein Vorwissen oder eine regelmäßige Teilnahme notwendig. 5 Euro Spende für die Raummiete sind erwünscht\, Tee inklusive – und wer bringt Kekse mit? 🙂 \nmit Paula Coulin \n*nicht in den Schulferien (Niedersachsen) \nVeranstalterin: Paula Coulin
URL:https://www.tea-and-records.de/event/writing-society-mit-paula-coulin-46/
LOCATION:Samowar Tea&Records\, Am Sande 33\, Lüneburg\, Niedersachsen\, 21335\, Deutschland
ATTACH;FMTTYPE=image/jpeg:https://www.tea-and-records.de/woo/wp-content/uploads/2023/07/Paula-Coulin-scaled.jpg
ORGANIZER;CN="Paula Coulin":MAILTO:kontakt@paulacoulin.com
END:VEVENT
END:VCALENDAR