BEGIN:VCALENDAR
VERSION:2.0
PRODID:-//tea-an-records.de - ECPv6.15.20//NONSGML v1.0//EN
CALSCALE:GREGORIAN
METHOD:PUBLISH
X-WR-CALNAME:tea-an-records.de
X-ORIGINAL-URL:https://www.tea-and-records.de
X-WR-CALDESC:Veranstaltungen für tea-an-records.de
REFRESH-INTERVAL;VALUE=DURATION:PT1H
X-Robots-Tag:noindex
X-PUBLISHED-TTL:PT1H
BEGIN:VTIMEZONE
TZID:Europe/Berlin
BEGIN:DAYLIGHT
TZOFFSETFROM:+0100
TZOFFSETTO:+0200
TZNAME:CEST
DTSTART:20240331T010000
END:DAYLIGHT
BEGIN:STANDARD
TZOFFSETFROM:+0200
TZOFFSETTO:+0100
TZNAME:CET
DTSTART:20241027T010000
END:STANDARD
BEGIN:DAYLIGHT
TZOFFSETFROM:+0100
TZOFFSETTO:+0200
TZNAME:CEST
DTSTART:20250330T010000
END:DAYLIGHT
BEGIN:STANDARD
TZOFFSETFROM:+0200
TZOFFSETTO:+0100
TZNAME:CET
DTSTART:20251026T010000
END:STANDARD
BEGIN:DAYLIGHT
TZOFFSETFROM:+0100
TZOFFSETTO:+0200
TZNAME:CEST
DTSTART:20260329T010000
END:DAYLIGHT
BEGIN:STANDARD
TZOFFSETFROM:+0200
TZOFFSETTO:+0100
TZNAME:CET
DTSTART:20261025T010000
END:STANDARD
END:VTIMEZONE
BEGIN:VEVENT
DTSTART;TZID=Europe/Berlin:20250603T193000
DTEND;TZID=Europe/Berlin:20250603T193000
DTSTAMP:20260420T204020
CREATED:20250504T081748Z
LAST-MODIFIED:20250504T081748Z
UID:38353-1748979000-1748979000@www.tea-and-records.de
SUMMARY:Writing Society mit Paula Coulin
DESCRIPTION:Jeden Dienstag* im Monat um 19 Uhr 30 trifft sich unsere „Writing Society“ zum kreativen Schreiben. Anarchisch\, witzig\, motiviert oder verlegen – wir schreiben spontan kleine Texte\, um uns bei einer Tasse Tee daran zu erfreuen. Jeder kann vorbeischauen\, es ist kein Vorwissen oder eine regelmäßige Teilnahme notwendig. 5 Euro Spende für die Raummiete sind erwünscht\, Tee inklusive – und wer bringt Kekse mit? 🙂 \nmit Paula Coulin \n*nicht in den Schulferien (Niedersachsen) \nVeranstalterin: Paula Coulin
URL:https://www.tea-and-records.de/event/writing-society-mit-paula-coulin-47/
LOCATION:Samowar Tea&Records\, Am Sande 33\, Lüneburg\, Niedersachsen\, 21335\, Deutschland
ATTACH;FMTTYPE=image/jpeg:https://www.tea-and-records.de/woo/wp-content/uploads/2023/07/Paula-Coulin-scaled.jpg
ORGANIZER;CN="Paula Coulin":MAILTO:kontakt@paulacoulin.com
END:VEVENT
BEGIN:VEVENT
DTSTART;TZID=Europe/Berlin:20250610T193000
DTEND;TZID=Europe/Berlin:20250610T193000
DTSTAMP:20260420T204020
CREATED:20250504T081833Z
LAST-MODIFIED:20250504T081833Z
UID:38355-1749583800-1749583800@www.tea-and-records.de
SUMMARY:Writing Society mit Paula Coulin
DESCRIPTION:Jeden Dienstag* im Monat um 19 Uhr 30 trifft sich unsere „Writing Society“ zum kreativen Schreiben. Anarchisch\, witzig\, motiviert oder verlegen – wir schreiben spontan kleine Texte\, um uns bei einer Tasse Tee daran zu erfreuen. Jeder kann vorbeischauen\, es ist kein Vorwissen oder eine regelmäßige Teilnahme notwendig. 5 Euro Spende für die Raummiete sind erwünscht\, Tee inklusive – und wer bringt Kekse mit? 🙂 \nmit Paula Coulin \n*nicht in den Schulferien (Niedersachsen) \nVeranstalterin: Paula Coulin
URL:https://www.tea-and-records.de/event/writing-society-mit-paula-coulin-48/
LOCATION:Samowar Tea&Records\, Am Sande 33\, Lüneburg\, Niedersachsen\, 21335\, Deutschland
ATTACH;FMTTYPE=image/jpeg:https://www.tea-and-records.de/woo/wp-content/uploads/2023/07/Paula-Coulin-scaled.jpg
ORGANIZER;CN="Paula Coulin":MAILTO:kontakt@paulacoulin.com
END:VEVENT
BEGIN:VEVENT
DTSTART;TZID=Europe/Berlin:20250617T193000
DTEND;TZID=Europe/Berlin:20250617T193000
DTSTAMP:20260420T204020
CREATED:20250504T081922Z
LAST-MODIFIED:20250504T081922Z
UID:38357-1750188600-1750188600@www.tea-and-records.de
SUMMARY:Writing Society mit Paula Coulin
DESCRIPTION:Jeden Dienstag* im Monat um 19 Uhr 30 trifft sich unsere „Writing Society“ zum kreativen Schreiben. Anarchisch\, witzig\, motiviert oder verlegen – wir schreiben spontan kleine Texte\, um uns bei einer Tasse Tee daran zu erfreuen. Jeder kann vorbeischauen\, es ist kein Vorwissen oder eine regelmäßige Teilnahme notwendig. 5 Euro Spende für die Raummiete sind erwünscht\, Tee inklusive – und wer bringt Kekse mit? 🙂 \nmit Paula Coulin \n*nicht in den Schulferien (Niedersachsen) \nVeranstalterin: Paula Coulin
URL:https://www.tea-and-records.de/event/writing-society-mit-paula-coulin-49/
LOCATION:Samowar Tea&Records\, Am Sande 33\, Lüneburg\, Niedersachsen\, 21335\, Deutschland
ATTACH;FMTTYPE=image/jpeg:https://www.tea-and-records.de/woo/wp-content/uploads/2023/07/Paula-Coulin-scaled.jpg
ORGANIZER;CN="Paula Coulin":MAILTO:kontakt@paulacoulin.com
END:VEVENT
BEGIN:VEVENT
DTSTART;TZID=Europe/Berlin:20250624T193000
DTEND;TZID=Europe/Berlin:20250624T193000
DTSTAMP:20260420T204020
CREATED:20250504T082012Z
LAST-MODIFIED:20250504T082012Z
UID:38359-1750793400-1750793400@www.tea-and-records.de
SUMMARY:Writing Society mit Paula Coulin
DESCRIPTION:Jeden Dienstag* im Monat um 19 Uhr 30 trifft sich unsere „Writing Society“ zum kreativen Schreiben. Anarchisch\, witzig\, motiviert oder verlegen – wir schreiben spontan kleine Texte\, um uns bei einer Tasse Tee daran zu erfreuen. Jeder kann vorbeischauen\, es ist kein Vorwissen oder eine regelmäßige Teilnahme notwendig. 5 Euro Spende für die Raummiete sind erwünscht\, Tee inklusive – und wer bringt Kekse mit? 🙂 \nmit Paula Coulin \n*nicht in den Schulferien (Niedersachsen) \nVeranstalterin: Paula Coulin
URL:https://www.tea-and-records.de/event/writing-society-mit-paula-coulin-50/
LOCATION:Samowar Tea&Records\, Am Sande 33\, Lüneburg\, Niedersachsen\, 21335\, Deutschland
ATTACH;FMTTYPE=image/jpeg:https://www.tea-and-records.de/woo/wp-content/uploads/2023/07/Paula-Coulin-scaled.jpg
ORGANIZER;CN="Paula Coulin":MAILTO:kontakt@paulacoulin.com
END:VEVENT
BEGIN:VEVENT
DTSTART;TZID=Europe/Berlin:20250626T190000
DTEND;TZID=Europe/Berlin:20250626T213000
DTSTAMP:20260420T204020
CREATED:20241212T153654Z
LAST-MODIFIED:20250603T100812Z
UID:37365-1750964400-1750973400@www.tea-and-records.de
SUMMARY:TROTZDEM - Geschichten vom Hinfallen und Weitergehen
DESCRIPTION:TROTZDEM – Geschichten vom Hinfallen und Weitergehen. \nEin Gesprächsabend \nDrei ausgewählte Interviewpartnerinnen erzählen ihre Geschichte und wie sie letztlich daran gewachsen sind. Ich heiße Brigitte Hawelka\, bin Kulturanthropologin\, Clownpädagogin und Prozessbegleitung für Inklusion und führe die Interviewpartnerinnen und Zuhörer durch den Abend. \nMein Interesse ist es\, dafür zu sensibilisieren\, Misserfolge auch als Erfahrung und Chance zu sehen\, und nicht wie so oft als persönliche Niederlage zu bewerten. Gerade Frauen haben Probleme ihren Perfektionismus zu überwinden\, auch deshalb ist dieser Abend: für Frauen und weiblich gelesene Flinta* \nDu fühlst Dich angesprochen\, als Interviewpartnerin Deine Geschichte zu erzählen? Dann lade ich Dich ein\, mit mir in Kontakt zu treten: brigittehawelka@gmx.de \nHutspende (zwischen 5-10 EUR) \n Am 30.10. öffne ich den Abend wieder für ALLE Geschlechter/geschlechtlichen Identitäten \nVeranstalterin: Brigitte Hawelka \n 
URL:https://www.tea-and-records.de/event/trotzdem-geschichten-vom-hinfallen-und-weitergehen/
LOCATION:Samowar Tea&Records\, Am Sande 33\, Lüneburg\, Niedersachsen\, 21335\, Deutschland
ATTACH;FMTTYPE=image/jpeg:https://www.tea-and-records.de/woo/wp-content/uploads/2024/01/brigitte-2.jpeg
ORGANIZER;CN="Samowar Tea & Records":MAILTO:info@tea-and-records.de
END:VEVENT
BEGIN:VEVENT
DTSTART;TZID=Europe/Berlin:20250628T143000
DTEND;TZID=Europe/Berlin:20250628T163000
DTSTAMP:20260420T204020
CREATED:20250518T085726Z
LAST-MODIFIED:20250518T091800Z
UID:38406-1751121000-1751128200@www.tea-and-records.de
SUMMARY:British Tea Time - High Tea Party
DESCRIPTION:Ihr wolltet immer schon mal eine echte englische Tea Time genießen mit hübsch bestückter Etagère und köstlichem Tee? Das könnt Ihr fast passend zur High Tea Zeit am Sonntag nachmittag stilecht in unserem Cottage. Sabine kredenzt für Euch verschiedene Sandwiches\, Kuchen im Kleinformat und natürlich Scones\, gebacken ganz wie im königlichen Hause mit Buttermilch. Getrunken wird aus Sammeltassen mit Goldrand und die eine oder andere Anekdote über die englische Teezeremonie wird ebenfalls erzählt. \nLet’s tea party! \nIm Preis enthalten sind 6 verschiedene Sorten Tee\, Kuchen\, Sandwiches und Scones. \nNEUHEIT für diesen TERMIN (aufgrund des trockenen Sommers) \nINDOOR und OUTDOOR Tickets: Ihr könnt Euch vorab entscheiden\, ob Ihr drinnen oder draußen sitzen möchtet. Im Innenraum habt Ihr ein sicheres Plätzchen im Trockenen. \nMöchtest Du lieber in unserem Teegarten sitzen? Erstmalig gibt es die Möglichkeit\, ein Outdoor Ticket zu buchen. Sollte es unerwartet an dem Tag regnen\, erhaltet Ihr ein überdachtes Plätzchen im Garten (bitte dann entsprechend warm anziehen). Sollten „indoor“ noch Kapazitäten verfügbar sein\, dürft Ihr natürlich nach drinnen umziehen\,  habt allerdings keinen Anspruch auf einen Platz im Cottage. Natürlich werden wir es Euch so gemütlich wie möglich draußen machen\, very british 😉
URL:https://www.tea-and-records.de/event/british-tea-time-high-tea-party-6/
LOCATION:Samowar Tea&Records\, Am Sande 33\, Lüneburg\, Niedersachsen\, 21335\, Deutschland
ATTACH;FMTTYPE=image/png:https://www.tea-and-records.de/woo/wp-content/uploads/2023/07/British-Tea-Time.png
ORGANIZER;CN="Samowar Tea & Records":MAILTO:info@tea-and-records.de
END:VEVENT
BEGIN:VEVENT
DTSTART;TZID=Europe/Berlin:20250630T193000
DTEND;TZID=Europe/Berlin:20250630T213000
DTSTAMP:20260420T204020
CREATED:20250417T081430Z
LAST-MODIFIED:20250417T093041Z
UID:38240-1751311800-1751319000@www.tea-and-records.de
SUMMARY:Frau Rohde erzählt  wieder Montags - Geschichten
DESCRIPTION: Geschichten mit Christine Rohde und Musik von Joel Silberkuhl \nDie Geschichtenerzählerin Christine Rohde und der Musiker Joel Silberkuhl teilen ihre Leidenschaft für kluge Geschichten und zauberhafte Klänge. Gemeinsam laden sie Euch zu einem Erlebnis-Abend ein – voller Genuss und Inspiration. \nEuch erwartet wieder \n– Berührende Geschichten mit Herz und Schmerz\, einer Prise Weisheit und Augenzwinkern. \n– Magische Klänge: Einfühlsame Musikkreationen auf Handpan und Gitarre.\n– Das gemeinsame Erleben: Präsenz im Erzählen\, Musizieren und Lauschen – von Herz zu Herz. \nMöge das Gehörte die Sinne erfreuen\, das Herz berühren und die Seele nähren. \nZur Website von FRAU ROHDE\nZur Website von JOEL\nReservierungen per Email möglich unter christine@fraurohde-erzaehlt.de oder kommt einfach spontan. \nEINLASS: 19 UHR \nHutspende \nVeranstalterin: Christine Rohde \n  \n 
URL:https://www.tea-and-records.de/event/frau-rohde-erzaehlt-wieder-montags-geschichten/
LOCATION:Samowar Tea&Records\, Am Sande 33\, Lüneburg\, Niedersachsen\, 21335\, Deutschland
ATTACH;FMTTYPE=image/jpeg:https://www.tea-and-records.de/woo/wp-content/uploads/2025/02/2025-02-Fotomontage-Frau-Rohde-erzaehlt-v2.jpg
ORGANIZER;CN="Samowar Tea & Records":MAILTO:info@tea-and-records.de
END:VEVENT
END:VCALENDAR