BEGIN:VCALENDAR
VERSION:2.0
PRODID:-//tea-an-records.de - ECPv6.15.20//NONSGML v1.0//EN
CALSCALE:GREGORIAN
METHOD:PUBLISH
X-WR-CALNAME:tea-an-records.de
X-ORIGINAL-URL:https://www.tea-and-records.de
X-WR-CALDESC:Veranstaltungen für tea-an-records.de
REFRESH-INTERVAL;VALUE=DURATION:PT1H
X-Robots-Tag:noindex
X-PUBLISHED-TTL:PT1H
BEGIN:VTIMEZONE
TZID:Europe/Berlin
BEGIN:DAYLIGHT
TZOFFSETFROM:+0100
TZOFFSETTO:+0200
TZNAME:CEST
DTSTART:20240331T010000
END:DAYLIGHT
BEGIN:STANDARD
TZOFFSETFROM:+0200
TZOFFSETTO:+0100
TZNAME:CET
DTSTART:20241027T010000
END:STANDARD
BEGIN:DAYLIGHT
TZOFFSETFROM:+0100
TZOFFSETTO:+0200
TZNAME:CEST
DTSTART:20250330T010000
END:DAYLIGHT
BEGIN:STANDARD
TZOFFSETFROM:+0200
TZOFFSETTO:+0100
TZNAME:CET
DTSTART:20251026T010000
END:STANDARD
BEGIN:DAYLIGHT
TZOFFSETFROM:+0100
TZOFFSETTO:+0200
TZNAME:CEST
DTSTART:20260329T010000
END:DAYLIGHT
BEGIN:STANDARD
TZOFFSETFROM:+0200
TZOFFSETTO:+0100
TZNAME:CET
DTSTART:20261025T010000
END:STANDARD
END:VTIMEZONE
BEGIN:VEVENT
DTSTART;TZID=Europe/Berlin:20250819T193000
DTEND;TZID=Europe/Berlin:20250819T193000
DTSTAMP:20260420T173732
CREATED:20250504T082216Z
LAST-MODIFIED:20250504T082216Z
UID:38363-1755631800-1755631800@www.tea-and-records.de
SUMMARY:Writing Society mit Paula Coulin
DESCRIPTION:Jeden Dienstag* im Monat um 19 Uhr 30 trifft sich unsere „Writing Society“ zum kreativen Schreiben. Anarchisch\, witzig\, motiviert oder verlegen – wir schreiben spontan kleine Texte\, um uns bei einer Tasse Tee daran zu erfreuen. Jeder kann vorbeischauen\, es ist kein Vorwissen oder eine regelmäßige Teilnahme notwendig. 5 Euro Spende für die Raummiete sind erwünscht\, Tee inklusive – und wer bringt Kekse mit? 🙂 \nmit Paula Coulin \n*nicht in den Schulferien (Niedersachsen) \nVeranstalterin: Paula Coulin
URL:https://www.tea-and-records.de/event/writing-society-mit-paula-coulin-52/
LOCATION:Samowar Tea&Records\, Am Sande 33\, Lüneburg\, Niedersachsen\, 21335\, Deutschland
ATTACH;FMTTYPE=image/jpeg:https://www.tea-and-records.de/woo/wp-content/uploads/2023/07/Paula-Coulin-scaled.jpg
ORGANIZER;CN="Paula Coulin":MAILTO:kontakt@paulacoulin.com
END:VEVENT
BEGIN:VEVENT
DTSTART;TZID=Europe/Berlin:20250826T193000
DTEND;TZID=Europe/Berlin:20250826T193000
DTSTAMP:20260420T173732
CREATED:20250822T082040Z
LAST-MODIFIED:20250822T082040Z
UID:39061-1756236600-1756236600@www.tea-and-records.de
SUMMARY:Writing Society mit Paula Coulin
DESCRIPTION:Jeden Dienstag* im Monat um 19 Uhr 30 trifft sich unsere „Writing Society“ zum kreativen Schreiben. Anarchisch\, witzig\, motiviert oder verlegen – wir schreiben spontan kleine Texte\, um uns bei einer Tasse Tee daran zu erfreuen. Jeder kann vorbeischauen\, es ist kein Vorwissen oder eine regelmäßige Teilnahme notwendig. 5 Euro Spende für die Raummiete sind erwünscht\, Tee inklusive – und wer bringt Kekse mit? 🙂 \nmit Paula Coulin \n*nicht in den Schulferien (Niedersachsen) \nVeranstalterin: Paula Coulin
URL:https://www.tea-and-records.de/event/writing-society-mit-paula-coulin-53/
LOCATION:Samowar Tea&Records\, Am Sande 33\, Lüneburg\, Niedersachsen\, 21335\, Deutschland
ATTACH;FMTTYPE=image/jpeg:https://www.tea-and-records.de/woo/wp-content/uploads/2023/07/Paula-Coulin-scaled.jpg
ORGANIZER;CN="Paula Coulin":MAILTO:kontakt@paulacoulin.com
END:VEVENT
BEGIN:VEVENT
DTSTART;TZID=Europe/Berlin:20250828T190000
DTEND;TZID=Europe/Berlin:20250828T213000
DTSTAMP:20260420T173732
CREATED:20250822T080835Z
LAST-MODIFIED:20250822T080846Z
UID:39054-1756407600-1756416600@www.tea-and-records.de
SUMMARY:TROTZDEM - Geschichten vom Hinfallen und Weitergehen
DESCRIPTION:TROTZDEM – Geschichten vom Hinfallen und Weitergehen. \nEin Gesprächsabend \nDrei ausgewählte Interviewpartnerinnen erzählen ihre Geschichte und wie sie letztlich daran gewachsen sind. Ich heiße Brigitte Hawelka\, bin Kulturanthropologin\, Clownpädagogin und Prozessbegleitung für Inklusion und führe die Interviewpartnerinnen und Zuhörer durch den Abend. \nMein Interesse ist es\, dafür zu sensibilisieren\, Misserfolge auch als Erfahrung und Chance zu sehen\, und nicht wie so oft als persönliche Niederlage zu bewerten. Gerade Frauen haben Probleme ihren Perfektionismus zu überwinden\, auch deshalb ist dieser Abend: für Frauen und weiblich gelesene Flinta* \nDu fühlst Dich angesprochen\, als Interviewpartnerin Deine Geschichte zu erzählen? Dann lade ich Dich ein\, mit mir in Kontakt zu treten: brigittehawelka@gmx.de \nHutspende (zwischen 5-10 EUR) \n\nAm 30.10. öffne ich den Abend wieder für ALLE Geschlechter/geschlechtlichen Identitäten\n\nVeranstalterin: Brigitte Hawelka \n 
URL:https://www.tea-and-records.de/event/trotzdem-geschichten-vom-hinfallen-und-weitergehen-2/
LOCATION:Samowar Tea&Records\, Am Sande 33\, Lüneburg\, Niedersachsen\, 21335\, Deutschland
ATTACH;FMTTYPE=image/jpeg:https://www.tea-and-records.de/woo/wp-content/uploads/2024/01/brigitte-2.jpeg
ORGANIZER;CN="Samowar Tea & Records":MAILTO:info@tea-and-records.de
END:VEVENT
END:VCALENDAR