BEGIN:VCALENDAR
VERSION:2.0
PRODID:-//tea-an-records.de - ECPv6.15.20//NONSGML v1.0//EN
CALSCALE:GREGORIAN
METHOD:PUBLISH
X-WR-CALNAME:tea-an-records.de
X-ORIGINAL-URL:https://www.tea-and-records.de
X-WR-CALDESC:Veranstaltungen für tea-an-records.de
REFRESH-INTERVAL;VALUE=DURATION:PT1H
X-Robots-Tag:noindex
X-PUBLISHED-TTL:PT1H
BEGIN:VTIMEZONE
TZID:Europe/Berlin
BEGIN:DAYLIGHT
TZOFFSETFROM:+0100
TZOFFSETTO:+0200
TZNAME:CEST
DTSTART:20240331T010000
END:DAYLIGHT
BEGIN:STANDARD
TZOFFSETFROM:+0200
TZOFFSETTO:+0100
TZNAME:CET
DTSTART:20241027T010000
END:STANDARD
BEGIN:DAYLIGHT
TZOFFSETFROM:+0100
TZOFFSETTO:+0200
TZNAME:CEST
DTSTART:20250330T010000
END:DAYLIGHT
BEGIN:STANDARD
TZOFFSETFROM:+0200
TZOFFSETTO:+0100
TZNAME:CET
DTSTART:20251026T010000
END:STANDARD
BEGIN:DAYLIGHT
TZOFFSETFROM:+0100
TZOFFSETTO:+0200
TZNAME:CEST
DTSTART:20260329T010000
END:DAYLIGHT
BEGIN:STANDARD
TZOFFSETFROM:+0200
TZOFFSETTO:+0100
TZNAME:CET
DTSTART:20261025T010000
END:STANDARD
END:VTIMEZONE
BEGIN:VEVENT
DTSTART;TZID=Europe/Berlin:20251202T193000
DTEND;TZID=Europe/Berlin:20251202T193000
DTSTAMP:20260420T113500
CREATED:20250822T084532Z
LAST-MODIFIED:20250822T084532Z
UID:39084-1764703800-1764703800@www.tea-and-records.de
SUMMARY:Writing Society mit Paula Coulin
DESCRIPTION:Jeden Dienstag* im Monat um 19 Uhr 30 trifft sich unsere „Writing Society“ zum kreativen Schreiben. Anarchisch\, witzig\, motiviert oder verlegen – wir schreiben spontan kleine Texte\, um uns bei einer Tasse Tee daran zu erfreuen. Jeder kann vorbeischauen\, es ist kein Vorwissen oder eine regelmäßige Teilnahme notwendig. 5 Euro Spende für die Raummiete sind erwünscht\, Tee inklusive – und wer bringt Kekse mit? 🙂 \nmit Paula Coulin \n*nicht in den Schulferien (Niedersachsen) \nVeranstalterin: Paula Coulin
URL:https://www.tea-and-records.de/event/writing-society-mit-paula-coulin-65/
LOCATION:Samowar Tea&Records\, Am Sande 33\, Lüneburg\, Niedersachsen\, 21335\, Deutschland
ATTACH;FMTTYPE=image/jpeg:https://www.tea-and-records.de/woo/wp-content/uploads/2023/07/Paula-Coulin-scaled.jpg
ORGANIZER;CN="Paula Coulin":MAILTO:kontakt@paulacoulin.com
END:VEVENT
BEGIN:VEVENT
DTSTART;TZID=Europe/Berlin:20251209T193000
DTEND;TZID=Europe/Berlin:20251209T193000
DTSTAMP:20260420T113500
CREATED:20250822T084646Z
LAST-MODIFIED:20250822T084646Z
UID:39086-1765308600-1765308600@www.tea-and-records.de
SUMMARY:Writing Society mit Paula Coulin
DESCRIPTION:Jeden Dienstag* im Monat um 19 Uhr 30 trifft sich unsere „Writing Society“ zum kreativen Schreiben. Anarchisch\, witzig\, motiviert oder verlegen – wir schreiben spontan kleine Texte\, um uns bei einer Tasse Tee daran zu erfreuen. Jeder kann vorbeischauen\, es ist kein Vorwissen oder eine regelmäßige Teilnahme notwendig. 5 Euro Spende für die Raummiete sind erwünscht\, Tee inklusive – und wer bringt Kekse mit? 🙂 \nmit Paula Coulin \n*nicht in den Schulferien (Niedersachsen) \nVeranstalterin: Paula Coulin
URL:https://www.tea-and-records.de/event/writing-society-mit-paula-coulin-66/
LOCATION:Samowar Tea&Records\, Am Sande 33\, Lüneburg\, Niedersachsen\, 21335\, Deutschland
ATTACH;FMTTYPE=image/jpeg:https://www.tea-and-records.de/woo/wp-content/uploads/2023/07/Paula-Coulin-scaled.jpg
ORGANIZER;CN="Paula Coulin":MAILTO:kontakt@paulacoulin.com
END:VEVENT
BEGIN:VEVENT
DTSTART;TZID=Europe/Berlin:20251212T120000
DTEND;TZID=Europe/Berlin:20251212T170000
DTSTAMP:20260420T113500
CREATED:20251205T101125Z
LAST-MODIFIED:20251205T101457Z
UID:39756-1765540800-1765558800@www.tea-and-records.de
SUMMARY:"Heiß gewürfelt"! Spieletreff mit Mehdi Hamze
DESCRIPTION:Komm zu unserem Spieletreff und entdecke zusammen mit Freunden oder neuen Spiele-Bekanntschaften unsere bunte Auswahl an Brettspielen! \nKuratiert und angeleitet wird das SAMOWAR COTTAGE Spielecafé von Spiele-Afficionado Mehdi Hamze\, der euch mit Rat & Tat zu Seite steht. \nZwei Sorten Tee sind im Teilnahmebeitrag inbegriffen. Ergänzt durch eine Snack- & Süßigkeiten-Bar und die Möglichkeit\, weitere warme und kalte Getränke zu bestellen\, könnt ihr euch auf einen tollen Nachmittag in geselliger Atmosphäre freuen. Seid dabei beim gemütlichsten Spielenachmittag der Stadt! \nWir freuen uns auf euch! \nWann? Freitag\, 12.12.2025\nUhrzeit? 12:00h – 17:00h\nW0? Im Samowar Cottage (Hinterhof am Sande 33)\nBeitrag: 5 Euro\, Tee inklusive \n  \nVeranstalter: Mehdi Hamze \n 
URL:https://www.tea-and-records.de/event/heiss-gewuerfelt-spieletreff-mit-mehdi-hamze/
LOCATION:Samowar Tea&Records\, Am Sande 33\, Lüneburg\, Niedersachsen\, 21335\, Deutschland
ATTACH;FMTTYPE=image/jpeg:https://www.tea-and-records.de/woo/wp-content/uploads/2025/12/HEISS-GEWUERFELT.jpg
ORGANIZER;CN="Samowar Tea & Records":MAILTO:info@tea-and-records.de
END:VEVENT
BEGIN:VEVENT
DTSTART;TZID=Europe/Berlin:20251215T193000
DTEND;TZID=Europe/Berlin:20251215T213000
DTSTAMP:20260420T113500
CREATED:20251208T203712Z
LAST-MODIFIED:20251208T203931Z
UID:39796-1765827000-1765834200@www.tea-and-records.de
SUMMARY:Frau Rohde erzählt  wieder Montags - Geschichten
DESCRIPTION: Geschichten mit Christine Rohde und Musik von Cellistin Malin Kumar \n\nDie Geschichtenerzählerin Christine Rohde und die Cellistin Malin Kumkar haben sich für diesen Abend zusammengefunden !\n\nGeneinsam laden wir Euch zu einem Erlebnis Abend ein\, voller Genuss und Inspiration\n \nEuch erwarten: \n– lebendige Geschichten mit Herz und Witz \, eine Prise Weihnachten mit Augenzwinkern \n– Das gemeinsame  Erleben: Präsenz im Erzählen\, Musizieren und Lauschen\n– Musik mit Malin Kumkar am Cello \n \nMöge das Gehörte die Sinne erfreuen\, das Herz berühren und die Seele nähren! \n \nZur Website von FRAU ROHDE\n \nReservierungen per Email möglich unter christine@fraurohde-erzaehlt.de oder kommt einfach spontan. \nEINLASS: 19 UHR \nHutspende \nVeranstalterin: Christine Rohde \n  \n 
URL:https://www.tea-and-records.de/event/frau-rohde-erzaehlt-wieder-montags-geschichten-3/
LOCATION:Samowar Tea&Records\, Am Sande 33\, Lüneburg\, Niedersachsen\, 21335\, Deutschland
ATTACH;FMTTYPE=image/png:https://www.tea-and-records.de/woo/wp-content/uploads/2025/12/Christine-Rohde.png
ORGANIZER;CN="Samowar Tea & Records":MAILTO:info@tea-and-records.de
END:VEVENT
END:VCALENDAR